Workbook

Sheet فروردین
A1: فرم آماری مراجعات به كارشناس تغذيه
B3: پايين بودن امتياز ارزيابي الگوي تغذيه | I3: كم خوني | P3: كوتاه قدي | W3: كم وزني | AD3: لاغري | AK3: اضافه وزن | AR3: چاقي | AY3: ديابت | BF3: فشار خون بالا | BM3: ديس ليپيدمي | BT3: جمع كل
B4: 6-0 سال | C4: 18-6 سال | D4: 29-19 سال | E4: 59-30 سال | F4: 60 سال به بالا | G4: مادر باردار | H4: جمع كل | I4: 6-0 سال | J4: 18-6 سال | K4: 29-19 سال | L4: 59-30 سال | M4: 60 سال به بالا | N4: مادر باردار | O4: جمع كل | P4: 6-0 سال | Q4: 18-6 سال | R4: 29-19 سال | S4: 59-30 سال | T4: 60 سال به بالا | U4: مادر باردار | V4: جمع كل | W4: 6-0 سال | X4: 18-6 سال | Y4: 29-19 سال | Z4: 59-30 سال | AA4: 60 سال به بالا | AB4: مادر باردار | AC4: جمع كل | AD4: 6-0 سال | AE4: 18-6 سال | AF4: 29-19 سال | AG4: 59-30 سال | AH4: 60 سال به بالا | AI4: مادر باردار | AJ4: جمع كل | AK4: 6-0 سال | AL4: 18-6 سال | AM4: 29-19 سال | AN4: 59-30 سال | AO4: 60 سال به بالا | AP4: مادر باردار | AQ4: جمع كل | AR4: 6-0 سال | AS4: 18-6 سال | AT4: 29-19 سال | AU4: 59-30 سال | AV4: 60 سال به بالا | AW4: مادر باردار | AX4: جمع كل | AY4: 6-0 سال | AZ4: 18-6 سال | BA4: 29-19 سال | BB4: 59-30 سال | BC4: 60 سال به بالا | BD4: مادر باردار | BE4: جمع كل | BF4: 6-0 سال | BG4: 18-6 سال | BH4: 29-19 سال | BI4: 59-30 سال | BJ4: 60 سال به بالا | BK4: مادر باردار | BL4: جمع كل | BM4: 6-0 سال | BN4: 18-6 سال | BO4: 29-19 سال | BP4: 59-30 سال | BQ4: 60 سال به بالا | BR4: مادر باردار | BS4: جمع كل | BT4: 6-0 سال | BU4: 18-6 سال | BV4: 29-19 سال | BW4: 59-30 سال | BX4: 60 سال به بالا | BY4: مادر باردار | BZ4: جمع كل
A5: قزوین | B5: 0 | C5: 2 | D5: 0 | E5: 3 | F5: 1 | G5: 4 | H5: 10 | I5: 0 | J5: 0 | K5: 0 | L5: 6 | M5: 0 | N5: 1 | O5: 7 | P5: 0 | Q5: 0 | R5: 0 | S5: 0 | T5: 0 | U5: 0 | V5: 0 | W5: 0 | X5: 1 | Y5: 0 | Z5: 0 | AA5: 0 | AB5: 0 | AC5: 1 | AD5: 0 | AE5: 1 | AF5: 0 | AG5: 0 | AH5: 0 | AI5: 0 | AJ5: 1 | AK5: 0 | AL5: 0 | AM5: 2 | AN5: 9 | AO5: 0 | AP5: 2 | AQ5: 13 | AR5: 0 | AS5: 1 | AT5: 2 | AU5: 20 | AV5: 3 | AW5: 2 | AX5: 28 | AY5: 0 | AZ5: 0 | BA5: 0 | BB5: 3 | BC5: 1 | BD5: 1 | BE5: 5 | BF5: 0 | BG5: 0 | BH5: 0 | BI5: 3 | BJ5: 0 | BK5: 0 | BL5: 3 | BM5: 0 | BN5: 0 | BO5: 0 | BP5: 16 | BQ5: 0 | BR5: 0 | BS5: 16 | BT5: 2 | BU5: 3 | BV5: 4 | BW5: 60 | BX5: 5 | BY5: 10 | BZ5: 84
A6: آبیک
A7: بویین زهرا
A8: البرز
A9: آوج
A10: تاکستان
A11: جمع استان | B11: =SUM(B5:B10) -> 0 | C11: =SUM(C5:C10) -> 2 | D11: =SUM(D5:D10) -> 0 | E11: =SUM(E5:E10) -> 3 | F11: =SUM(F5:F10) -> 1 | G11: =SUM(G5:G10) -> 4 | H11: =SUM(H5:H10) -> 10 | I11: =SUM(I5:I10) -> 0 | ... Z11: =SUM(Z5:Z10) -> 0 | AB11: =SUM(AB5:AB10) -> 0 | AC11: =SUM(AC5:AC10) -> 1 | AD11: =SUM(AD5:AD10) -> 0 | AE11: =SUM(AE5:AE10) -> 1 | AF11: =SUM(AF5:AF10) -> 0 | AG11: =SUM(AG5:AG10) -> 0 | AH11: =SUM(AH5:AH10) -> 0 | AI11: =SUM(AI5:AI10) -> 0 | ... BZ11: =SUM(BZ5:BZ10) -> 84
A14: فرم آماری مراجعات به كارشناس تغذيه
B15: علت مراجعه | C15: پايين بودن امتياز ارزيابي الگوي تغذيه | D15: كم خوني | E15: كوتاه قدي | F15: كم وزني | G15: لاغري | H15: اضافه وزن | I15: چاقي | J15: ديابت | K15: فشار خون بالا | L15: ديس ليپيدمي | M15: جمع كل
A16: فصل اول 1396 | B16: 6-0 سال
B17: 18-6 سال
B18: 29-19 سال
B19: 59-30 سال
B20: 60 سال به بالا
B21: مادر باردار
B22: جمع كل

Sheet اردیبهشت
A1: فرم آماری مراجعات به كارشناس تغذيه
B3: پايين بودن امتياز ارزيابي الگوي تغذيه | I3: كم خوني | P3: كوتاه قدي | W3: كم وزني | AD3: لاغري | AK3: اضافه وزن | AR3: چاقي | AY3: ديابت | BF3: فشار خون بالا | BM3: ديس ليپيدمي | BT3: جمع كل
B4: 6-0 سال | C4: 18-6 سال | D4: 29-19 سال | E4: 59-30 سال | F4: 60 سال به بالا | G4: مادر باردار | H4: جمع كل | I4: 6-0 سال | J4: 18-6 سال | K4: 29-19 سال | L4: 59-30 سال | M4: 60 سال به بالا | N4: مادر باردار | O4: جمع كل | P4: 6-0 سال | Q4: 18-6 سال | R4: 29-19 سال | S4: 59-30 سال | T4: 60 سال به بالا | U4: مادر باردار | V4: جمع كل | W4: 6-0 سال | X4: 18-6 سال | Y4: 29-19 سال | Z4: 59-30 سال | AA4: 60 سال به بالا | AB4: مادر باردار | AC4: جمع كل | AD4: 6-0 سال | AE4: 18-6 سال | AF4: 29-19 سال | AG4: 59-30 سال | AH4: 60 سال به بالا | AI4: مادر باردار | AJ4: جمع كل | AK4: 6-0 سال | AL4: 18-6 سال | AM4: 29-19 سال | AN4: 59-30 سال | AO4: 60 سال به بالا | AP4: مادر باردار | AQ4: جمع كل | AR4: 6-0 سال | AS4: 18-6 سال | AT4: 29-19 سال | AU4: 59-30 سال | AV4: 60 سال به بالا | AW4: مادر باردار | AX4: جمع كل | AY4: 6-0 سال | AZ4: 18-6 سال | BA4: 29-19 سال | BB4: 59-30 سال | BC4: 60 سال به بالا | BD4: مادر باردار | BE4: جمع كل | BF4: 6-0 سال | BG4: 18-6 سال | BH4: 29-19 سال | BI4: 59-30 سال | BJ4: 60 سال به بالا | BK4: مادر باردار | BL4: جمع كل | BM4: 6-0 سال | BN4: 18-6 سال | BO4: 29-19 سال | BP4: 59-30 سال | BQ4: 60 سال به بالا | BR4: مادر باردار | BS4: جمع كل | BT4: 6-0 سال | BU4: 18-6 سال | BV4: 29-19 سال | BW4: 59-30 سال | BX4: 60 سال به بالا | BY4: مادر باردار | BZ4: جمع كل
A5: قزوین | B5: 0 | C5: 3 | D5: 2 | E5: 3 | F5: 2 | G5: 2 | H5: 12 | I5: 0 | J5: 0 | K5: 1 | L5: 0 | M5: 0 | N5: 2 | O5: 3 | P5: 0 | Q5: 0 | R5: 0 | S5: 0 | T5: 0 | U5: 0 | V5: 0 | W5: 1 | X5: 4 | Y5: 5 | Z5: 1 | AA5: 1 | AB5: 0 | AC5: 12 | AD5: 0 | AE5: 0 | AF5: 0 | AG5: 0 | AH5: 0 | AI5: 0 | AJ5: 0 | AK5: 0 | AL5: 0 | AM5: 3 | AN5: 15 | AO5: 1 | AP5: 4 | AQ5: 23 | AR5: 0 | AS5: 3 | AT5: 4 | AU5: 22 | AV5: 4 | AW5: 5 | AX5: 38 | AY5: 0 | AZ5: 0 | BA5: 0 | BB5: 3 | BC5: 1 | BD5: 2 | BE5: 6 | BF5: 0 | BG5: 0 | BH5: 1 | BI5: 9 | BJ5: 2 | BK5: 0 | BL5: 12 | BM5: 0 | BN5: 0 | BO5: 0 | BP5: 16 | BQ5: 4 | BR5: 0 | BS5: 20 | BT5: 1 | BU5: 10 | BV5: 16 | BW5: 42 | BX5: 9 | BY5: 11 | BZ5: 89
A6: آبیک
A7: بویین زهرا
A8: البرز
A9: آوج
A10: تاکستان
A11: جمع استان | B11: =SUM(B5:B10) -> 0 | C11: =SUM(C5:C10) -> 3 | D11: =SUM(D5:D10) -> 2 | E11: =SUM(E5:E10) -> 3 | F11: =SUM(F5:F10) -> 2 | G11: =SUM(G5:G10) -> 2 | H11: =SUM(H5:H10) -> 12 | I11: =SUM(I5:I10) -> 0 | ... Z11: =SUM(Z5:Z10) -> 1 | AA11: 1 | AB11: =SUM(AB5:AB10) -> 0 | AC11: =SUM(AC5:AC10) -> 12 | AD11: =SUM(AD5:AD10) -> 0 | AE11: =SUM(AE5:AE10) -> 0 | AF11: =SUM(AF5:AF10) -> 0 | AG11: =SUM(AG5:AG10) -> 0 | AH11: =SUM(AH5:AH10) -> 0 | AI11: =SUM(AI5:AI10) -> 0 | ... BV11: =SUM(BV5:BV10) -> 16 | BW11: 66 | BX11: 13 | BY11: 13 | BZ11: 113
A14: فرم آماری مراجعات به كارشناس تغذيه
B15: علت مراجعه | C15: پايين بودن امتياز ارزيابي الگوي تغذيه | D15: كم خوني | E15: كوتاه قدي | F15: كم وزني | G15: لاغري | H15: اضافه وزن | I15: چاقي | J15: ديابت | K15: فشار خون بالا | L15: ديس ليپيدمي | M15: جمع كل
A16: فصل اول 1396 | B16: 6-0 سال
B17: 18-6 سال
B18: 29-19 سال
B19: 59-30 سال
B20: 60 سال به بالا
B21: مادر باردار
B22: جمع كل

Sheet خرداد
A1: فرم آماری مراجعات به كارشناس تغذيه
B3: پايين بودن امتياز ارزيابي الگوي تغذيه | I3: كم خوني | P3: كوتاه قدي | W3: كم وزني | AD3: لاغري | AK3: اضافه وزن | AR3: چاقي | AY3: ديابت | BF3: فشار خون بالا | BM3: ديس ليپيدمي | BT3: جمع كل
B4: 6-0 سال | C4: 18-6 سال | D4: 29-19 سال | E4: 59-30 سال | F4: 60 سال به بالا | G4: مادر باردار | H4: جمع كل | I4: 6-0 سال | J4: 18-6 سال | K4: 29-19 سال | L4: 59-30 سال | M4: 60 سال به بالا | N4: مادر باردار | O4: جمع كل | P4: 6-0 سال | Q4: 18-6 سال | R4: 29-19 سال | S4: 59-30 سال | T4: 60 سال به بالا | U4: مادر باردار | V4: جمع كل | W4: 6-0 سال | X4: 18-6 سال | Y4: 29-19 سال | Z4: 59-30 سال | AA4: 60 سال به بالا | AB4: مادر باردار | AC4: جمع كل | AD4: 6-0 سال | AE4: 18-6 سال | AF4: 29-19 سال | AG4: 59-30 سال | AH4: 60 سال به بالا | AI4: مادر باردار | AJ4: جمع كل | AK4: 6-0 سال | AL4: 18-6 سال | AM4: 29-19 سال | AN4: 59-30 سال | AO4: 60 سال به بالا | AP4: مادر باردار | AQ4: جمع كل | AR4: 6-0 سال | AS4: 18-6 سال | AT4: 29-19 سال | AU4: 59-30 سال | AV4: 60 سال به بالا | AW4: مادر باردار | AX4: جمع كل | AY4: 6-0 سال | AZ4: 18-6 سال | BA4: 29-19 سال | BB4: 59-30 سال | BC4: 60 سال به بالا | BD4: مادر باردار | BE4: جمع كل | BF4: 6-0 سال | BG4: 18-6 سال | BH4: 29-19 سال | BI4: 59-30 سال | BJ4: 60 سال به بالا | BK4: مادر باردار | BL4: جمع كل | BM4: 6-0 سال | BN4: 18-6 سال | BO4: 29-19 سال | BP4: 59-30 سال | BQ4: 60 سال به بالا | BR4: مادر باردار | BS4: جمع كل | BT4: 6-0 سال | BU4: 18-6 سال | BV4: 29-19 سال | BW4: 59-30 سال | BX4: 60 سال به بالا | BY4: مادر باردار | BZ4: جمع كل
A5: قزوین | B5: 0 | C5: 5 | D5: 2 | E5: 1 | F5: 1 | G5: 2 | H5: 11 | I5: 1 | J5: 0 | K5: 0 | L5: 0 | M5: 1 | N5: 2 | O5: 4 | P5: 0 | Q5: 1 | R5: 0 | S5: 0 | T5: 0 | U5: 0 | V5: 1 | W5: 3 | X5: 9 | Y5: 6 | Z5: 2 | AA5: 1 | AB5: 0 | AC5: 21 | AD5: 0 | AE5: 9 | AF5: 6 | AG5: 2 | AH5: 0 | AI5: 0 | AJ5: 17 | AK5: 0 | AL5: 2 | AM5: 0 | AN5: 16 | AO5: 1 | AP5: 5 | AQ5: 24 | AR5: 0 | AS5: 5 | AT5: 4 | AU5: 28 | AV5: 5 | AW5: 5 | AX5: 47 | AY5: 0 | AZ5: 0 | BA5: 1 | BB5: 6 | BC5: 4 | BD5: 5 | BE5: 16 | BF5: 0 | BG5: 0 | BH5: 0 | BI5: 9 | BJ5: 4 | BK5: 0 | BL5: 13 | BM5: 0 | BN5: 0 | BO5: 0 | BP5: 23 | BQ5: 7 | BR5: 1 | BS5: 31 | BT5: 4 | BU5: 31 | BV5: 19 | BW5: 87 | BX5: 24 | BY5: 20 | BZ5: 185
A6: آبیک
A7: بویین زهرا
A8: البرز
A9: آوج
A10: تاکستان
A11: جمع استان | B11: =SUM(B5:B10) -> 0 | C11: =SUM(C5:C10) -> 5 | D11: =SUM(D5:D10) -> 2 | E11: =SUM(E5:E10) -> 1 | F11: =SUM(F5:F10) -> 1 | G11: =SUM(G5:G10) -> 2 | H11: =SUM(H5:H10) -> 11 | I11: =SUM(I5:I10) -> 1 | ... Z11: =SUM(Z5:Z10) -> 2 | AA11: 1 | AB11: =SUM(AB5:AB10) -> 0 | AC11: =SUM(AC5:AC10) -> 21 | AD11: =SUM(AD5:AD10) -> 0 | AE11: =SUM(AE5:AE10) -> 9 | AF11: =SUM(AF5:AF10) -> 6 | AG11: =SUM(AG5:AG10) -> 2 | AH11: =SUM(AH5:AH10) -> 0 | AI11: =SUM(AI5:AI10) -> 0 | ... BZ11: =SUM(BZ5:BZ10) -> 185
A14: فرم آماری مراجعات به كارشناس تغذيه
B15: علت مراجعه | C15: پايين بودن امتياز ارزيابي الگوي تغذيه | D15: كم خوني | E15: كوتاه قدي | F15: كم وزني | G15: لاغري | H15: اضافه وزن | I15: چاقي | J15: ديابت | K15: فشار خون بالا | L15: ديس ليپيدمي | M15: جمع كل
A16: فصل اول 1396 | B16: 6-0 سال
B17: 18-6 سال
B18: 29-19 سال
B19: 59-30 سال
B20: 60 سال به بالا
B21: مادر باردار
B22: جمع كل

Sheet سه ماهه اول
A1: فرم آماری مراجعات به كارشناس تغذيه در سه ماهه اول 96
B3: پايين بودن امتياز ارزيابي الگوي تغذيه | I3: كم خوني | P3: كوتاه قدي | W3: كم وزني | AD3: لاغري | AK3: اضافه وزن | AR3: چاقي | AY3: ديابت | BF3: فشار خون بالا | BM3: ديس ليپيدمي | BT3: جمع كل
B4: 6-0 سال | C4: 18-6 سال | D4: 29-19 سال | E4: 59-30 سال | F4: 60 سال به بالا | G4: مادر باردار | H4: جمع كل | I4: 6-0 سال | J4: 18-6 سال | K4: 29-19 سال | L4: 59-30 سال | M4: 60 سال به بالا | N4: مادر باردار | O4: جمع كل | P4: 6-0 سال | Q4: 18-6 سال | R4: 29-19 سال | S4: 59-30 سال | T4: 60 سال به بالا | U4: مادر باردار | V4: جمع كل | W4: 6-0 سال | X4: 18-6 سال | Y4: 29-19 سال | Z4: 59-30 سال | AA4: 60 سال به بالا | AB4: مادر باردار | AC4: جمع كل | AD4: 6-0 سال | AE4: 18-6 سال | AF4: 29-19 سال | AG4: 59-30 سال | AH4: 60 سال به بالا | AI4: مادر باردار | AJ4: جمع كل | AK4: 6-0 سال | AL4: 18-6 سال | AM4: 29-19 سال | AN4: 59-30 سال | AO4: 60 سال به بالا | AP4: مادر باردار | AQ4: جمع كل | AR4: 6-0 سال | AS4: 18-6 سال | AT4: 29-19 سال | AU4: 59-30 سال | AV4: 60 سال به بالا | AW4: مادر باردار | AX4: جمع كل | AY4: 6-0 سال | AZ4: 18-6 سال | BA4: 29-19 سال | BB4: 59-30 سال | BC4: 60 سال به بالا | BD4: مادر باردار | BE4: جمع كل | BF4: 6-0 سال | BG4: 18-6 سال | BH4: 29-19 سال | BI4: 59-30 سال | BJ4: 60 سال به بالا | BK4: مادر باردار | BL4: جمع كل | BM4: 6-0 سال | BN4: 18-6 سال | BO4: 29-19 سال | BP4: 59-30 سال | BQ4: 60 سال به بالا | BR4: مادر باردار | BS4: جمع كل | BT4: 6-0 سال | BU4: 18-6 سال | BV4: 29-19 سال | BW4: 59-30 سال | BX4: 60 سال به بالا | BY4: مادر باردار | BZ4: جمع كل
A5: قزوین | B5: =فروردین!B5+اردیبهشت!B5+خرداد!B5 -> 0 | C5: =فروردین!C5+اردیبهشت!C5+خرداد!C5 -> 10 | D5: =فروردین!D5+اردیبهشت!D5+خرداد!D5 -> 4 | E5: =فروردین!E5+اردیبهشت!E5+خرداد!E5 -> 7 | F5: =فروردین!F5+اردیبهشت!F5+خرداد!F5 -> 4 | G5: =فروردین!G5+اردیبهشت!G5+خرداد!G5 -> 8 | H5: =فروردین!H5+اردیبهشت!H5+خرداد!H5 -> 33 | I5: =فروردین!I5+اردیبهشت!I5+خرداد!I5 -> 1 | ... BZ5: =فروردین!BZ5+اردیبهشت!BZ5+خرداد!BZ5 -> 358
A6: آبیک | B6: =فروردین!B6+اردیبهشت!B6+خرداد!B6 -> 0 | C6: =فروردین!C6+اردیبهشت!C6+خرداد!C6 -> 0 | D6: =فروردین!D6+اردیبهشت!D6+خرداد!D6 -> 0 | E6: =فروردین!E6+اردیبهشت!E6+خرداد!E6 -> 0 | F6: =فروردین!F6+اردیبهشت!F6+خرداد!F6 -> 0 | G6: =فروردین!G6+اردیبهشت!G6+خرداد!G6 -> 0 | H6: =فروردین!H6+اردیبهشت!H6+خرداد!H6 -> 0 | I6: =فروردین!I6+اردیبهشت!I6+خرداد!I6 -> 0 | ... BZ6: =فروردین!BZ6+اردیبهشت!BZ6+خرداد!BZ6 -> 0
A7: بویین زهرا | B7: =فروردین!B7+اردیبهشت!B7+خرداد!B7 -> 0 | C7: =فروردین!C7+اردیبهشت!C7+خرداد!C7 -> 0 | D7: =فروردین!D7+اردیبهشت!D7+خرداد!D7 -> 0 | E7: =فروردین!E7+اردیبهشت!E7+خرداد!E7 -> 0 | F7: =فروردین!F7+اردیبهشت!F7+خرداد!F7 -> 0 | G7: =فروردین!G7+اردیبهشت!G7+خرداد!G7 -> 0 | H7: =فروردین!H7+اردیبهشت!H7+خرداد!H7 -> 0 | I7: =فروردین!I7+اردیبهشت!I7+خرداد!I7 -> 0 | ... BZ7: =فروردین!BZ7+اردیبهشت!BZ7+خرداد!BZ7 -> 0
A8: البرز | B8: =فروردین!B8+اردیبهشت!B8+خرداد!B8 -> 0 | C8: =فروردین!C8+اردیبهشت!C8+خرداد!C8 -> 0 | D8: =فروردین!D8+اردیبهشت!D8+خرداد!D8 -> 0 | E8: =فروردین!E8+اردیبهشت!E8+خرداد!E8 -> 0 | F8: =فروردین!F8+اردیبهشت!F8+خرداد!F8 -> 0 | G8: =فروردین!G8+اردیبهشت!G8+خرداد!G8 -> 0 | H8: =فروردین!H8+اردیبهشت!H8+خرداد!H8 -> 0 | I8: =فروردین!I8+اردیبهشت!I8+خرداد!I8 -> 0 | ... BZ8: =فروردین!BZ8+اردیبهشت!BZ8+خرداد!BZ8 -> 0
A9: آوج | B9: =فروردین!B9+اردیبهشت!B9+خرداد!B9 -> 0 | C9: =فروردین!C9+اردیبهشت!C9+خرداد!C9 -> 0 | D9: =فروردین!D9+اردیبهشت!D9+خرداد!D9 -> 0 | E9: =فروردین!E9+اردیبهشت!E9+خرداد!E9 -> 0 | F9: =فروردین!F9+اردیبهشت!F9+خرداد!F9 -> 0 | G9: =فروردین!G9+اردیبهشت!G9+خرداد!G9 -> 0 | H9: =فروردین!H9+اردیبهشت!H9+خرداد!H9 -> 0 | I9: =فروردین!I9+اردیبهشت!I9+خرداد!I9 -> 0 | ... BZ9: =فروردین!BZ9+اردیبهشت!BZ9+خرداد!BZ9 -> 0
A10: تاکستان | B10: =فروردین!B10+اردیبهشت!B10+خرداد!B10 -> 0 | C10: =فروردین!C10+اردیبهشت!C10+خرداد!C10 -> 0 | D10: =فروردین!D10+اردیبهشت!D10+خرداد!D10 -> 0 | E10: =فروردین!E10+اردیبهشت!E10+خرداد!E10 -> 0 | F10: =فروردین!F10+اردیبهشت!F10+خرداد!F10 -> 0 | G10: =فروردین!G10+اردیبهشت!G10+خرداد!G10 -> 0 | H10: =فروردین!H10+اردیبهشت!H10+خرداد!H10 -> 0 | I10: =فروردین!I10+اردیبهشت!I10+خرداد!I10 -> 0 | ... BZ10: =فروردین!BZ10+اردیبهشت!BZ10+خرداد!BZ10 -> 0
A11: جمع استان | B11: =SUM(B5:B10) -> 0 | C11: =SUM(C5:C10) -> 10 | D11: =SUM(D5:D10) -> 4 | E11: =SUM(E5:E10) -> 7 | F11: =SUM(F5:F10) -> 4 | G11: =SUM(G5:G10) -> 8 | H11: =SUM(H5:H10) -> 33 | I11: =SUM(I5:I10) -> 1 | ... Z11: =SUM(Z5:Z10) -> 3 | AB11: =SUM(AB5:AB10) -> 0 | AC11: =SUM(AC5:AC10) -> 34 | AD11: =SUM(AD5:AD10) -> 0 | AE11: =SUM(AE5:AE10) -> 10 | AF11: =SUM(AF5:AF10) -> 6 | AG11: =SUM(AG5:AG10) -> 2 | AH11: =SUM(AH5:AH10) -> 0 | AI11: =SUM(AI5:AI10) -> 0 | ... BZ11: =SUM(BZ5:BZ10) -> 358
A14: فرم آماری مراجعات به كارشناس تغذيه
B15: علت مراجعه | C15: پايين بودن امتياز ارزيابي الگوي تغذيه | D15: كم خوني | E15: كوتاه قدي | F15: كم وزني | G15: لاغري | H15: اضافه وزن | I15: چاقي | J15: ديابت | K15: فشار خون بالا | L15: ديس ليپيدمي | M15: جمع كل
A16: فصل اول 1396 | B16: 6-0 سال
B17: 18-6 سال
B18: 29-19 سال
B19: 59-30 سال
B20: 60 سال به بالا
B21: مادر باردار
B22: جمع كل

Sheet تیر
A1: فرم آماری مراجعات به كارشناس تغذيه
B3: پايين بودن امتياز ارزيابي الگوي تغذيه | I3: كم خوني | P3: كوتاه قدي | W3: كم وزني | AD3: لاغري | AK3: اضافه وزن | AR3: چاقي | AY3: ديابت | BF3: فشار خون بالا | BM3: ديس ليپيدمي | BT3: جمع كل
B4: 6-0 سال | C4: 18-6 سال | D4: 29-19 سال | E4: 59-30 سال | F4: 60 سال به بالا | G4: مادر باردار | H4: جمع كل | I4: 6-0 سال | J4: 18-6 سال | K4: 29-19 سال | L4: 59-30 سال | M4: 60 سال به بالا | N4: مادر باردار | O4: جمع كل | P4: 6-0 سال | Q4: 18-6 سال | R4: 29-19 سال | S4: 59-30 سال | T4: 60 سال به بالا | U4: مادر باردار | V4: جمع كل | W4: 6-0 سال | X4: 18-6 سال | Y4: 29-19 سال | Z4: 59-30 سال | AA4: 60 سال به بالا | AB4: مادر باردار | AC4: جمع كل | AD4: 6-0 سال | AE4: 18-6 سال | AF4: 29-19 سال | AG4: 59-30 سال | AH4: 60 سال به بالا | AI4: مادر باردار | AJ4: جمع كل | AK4: 6-0 سال | AL4: 18-6 سال | AM4: 29-19 سال | AN4: 59-30 سال | AO4: 60 سال به بالا | AP4: مادر باردار | AQ4: جمع كل | AR4: 6-0 سال | AS4: 18-6 سال | AT4: 29-19 سال | AU4: 59-30 سال | AV4: 60 سال به بالا | AW4: مادر باردار | AX4: جمع كل | AY4: 6-0 سال | AZ4: 18-6 سال | BA4: 29-19 سال | BB4: 59-30 سال | BC4: 60 سال به بالا | BD4: مادر باردار | BE4: جمع كل | BF4: 6-0 سال | BG4: 18-6 سال | BH4: 29-19 سال | BI4: 59-30 سال | BJ4: 60 سال به بالا | BK4: مادر باردار | BL4: جمع كل | BM4: 6-0 سال | BN4: 18-6 سال | BO4: 29-19 سال | BP4: 59-30 سال | BQ4: 60 سال به بالا | BR4: مادر باردار | BS4: جمع كل | BT4: 6-0 سال | BU4: 18-6 سال | BV4: 29-19 سال | BW4: 59-30 سال | BX4: 60 سال به بالا | BY4: مادر باردار | BZ4: جمع كل
A5: قزوین
A6: آبیک
A7: بویین زهرا
A8: البرز
A9: آوج
A10: تاکستان
A11: جمع استان | B11: =SUM(B5:B10) -> 0 | C11: =SUM(C5:C10) -> 0 | D11: =SUM(D5:D10) -> 0 | E11: =SUM(E5:E10) -> 0 | F11: =SUM(F5:F10) -> 0 | G11: =SUM(G5:G10) -> 0 | H11: =SUM(H5:H10) -> 0 | I11: =SUM(I5:I10) -> 0 | ... Z11: =SUM(Z5:Z10) -> 0 | AB11: =SUM(AB5:AB10) -> 0 | AC11: =SUM(AC5:AC10) -> 0 | AD11: =SUM(AD5:AD10) -> 0 | AE11: =SUM(AE5:AE10) -> 0 | AF11: =SUM(AF5:AF10) -> 0 | AG11: =SUM(AG5:AG10) -> 0 | AH11: =SUM(AH5:AH10) -> 0 | AI11: =SUM(AI5:AI10) -> 0 | ... BZ11: =SUM(BZ5:BZ10) -> 0
A14: فرم آماری مراجعات به كارشناس تغذيه
B15: علت مراجعه | C15: پايين بودن امتياز ارزيابي الگوي تغذيه | D15: كم خوني | E15: كوتاه قدي | F15: كم وزني | G15: لاغري | H15: اضافه وزن | I15: چاقي | J15: ديابت | K15: فشار خون بالا | L15: ديس ليپيدمي | M15: جمع كل
A16: فصل اول 1396 | B16: 6-0 سال
B17: 18-6 سال
B18: 29-19 سال
B19: 59-30 سال
B20: 60 سال به بالا
B21: مادر باردار
B22: جمع كل

Sheet مرداد
A1: فرم آماری مراجعات به كارشناس تغذيه
B3: پايين بودن امتياز ارزيابي الگوي تغذيه | I3: كم خوني | P3: كوتاه قدي | W3: كم وزني | AD3: لاغري | AK3: اضافه وزن | AR3: چاقي | AY3: ديابت | BF3: فشار خون بالا | BM3: ديس ليپيدمي | BT3: جمع كل
B4: 6-0 سال | C4: 18-6 سال | D4: 29-19 سال | E4: 59-30 سال | F4: 60 سال به بالا | G4: مادر باردار | H4: جمع كل | I4: 6-0 سال | J4: 18-6 سال | K4: 29-19 سال | L4: 59-30 سال | M4: 60 سال به بالا | N4: مادر باردار | O4: جمع كل | P4: 6-0 سال | Q4: 18-6 سال | R4: 29-19 سال | S4: 59-30 سال | T4: 60 سال به بالا | U4: مادر باردار | V4: جمع كل | W4: 6-0 سال | X4: 18-6 سال | Y4: 29-19 سال | Z4: 59-30 سال | AA4: 60 سال به بالا | AB4: مادر باردار | AC4: جمع كل | AD4: 6-0 سال | AE4: 18-6 سال | AF4: 29-19 سال | AG4: 59-30 سال | AH4: 60 سال به بالا | AI4: مادر باردار | AJ4: جمع كل | AK4: 6-0 سال | AL4: 18-6 سال | AM4: 29-19 سال | AN4: 59-30 سال | AO4: 60 سال به بالا | AP4: مادر باردار | AQ4: جمع كل | AR4: 6-0 سال | AS4: 18-6 سال | AT4: 29-19 سال | AU4: 59-30 سال | AV4: 60 سال به بالا | AW4: مادر باردار | AX4: جمع كل | AY4: 6-0 سال | AZ4: 18-6 سال | BA4: 29-19 سال | BB4: 59-30 سال | BC4: 60 سال به بالا | BD4: مادر باردار | BE4: جمع كل | BF4: 6-0 سال | BG4: 18-6 سال | BH4: 29-19 سال | BI4: 59-30 سال | BJ4: 60 سال به بالا | BK4: مادر باردار | BL4: جمع كل | BM4: 6-0 سال | BN4: 18-6 سال | BO4: 29-19 سال | BP4: 59-30 سال | BQ4: 60 سال به بالا | BR4: مادر باردار | BS4: جمع كل | BT4: 6-0 سال | BU4: 18-6 سال | BV4: 29-19 سال | BW4: 59-30 سال | BX4: 60 سال به بالا | BY4: مادر باردار | BZ4: جمع كل
A5: قزوین
A6: آبیک
A7: بویین زهرا
A8: البرز
A9: آوج
A10: تاکستان
A11: جمع استان | B11: =SUM(B5:B10) -> 0 | C11: =SUM(C5:C10) -> 0 | D11: =SUM(D5:D10) -> 0 | E11: =SUM(E5:E10) -> 0 | F11: =SUM(F5:F10) -> 0 | G11: =SUM(G5:G10) -> 0 | H11: =SUM(H5:H10) -> 0 | I11: =SUM(I5:I10) -> 0 | ... Z11: =SUM(Z5:Z10) -> 0 | AB11: =SUM(AB5:AB10) -> 0 | AC11: =SUM(AC5:AC10) -> 0 | AD11: =SUM(AD5:AD10) -> 0 | AE11: =SUM(AE5:AE10) -> 0 | AF11: =SUM(AF5:AF10) -> 0 | AG11: =SUM(AG5:AG10) -> 0 | AH11: =SUM(AH5:AH10) -> 0 | AI11: =SUM(AI5:AI10) -> 0 | ... BZ11: =SUM(BZ5:BZ10) -> 0
A14: فرم آماری مراجعات به كارشناس تغذيه
B15: علت مراجعه | C15: پايين بودن امتياز ارزيابي الگوي تغذيه | D15: كم خوني | E15: كوتاه قدي | F15: كم وزني | G15: لاغري | H15: اضافه وزن | I15: چاقي | J15: ديابت | K15: فشار خون بالا | L15: ديس ليپيدمي | M15: جمع كل
A16: فصل اول 1396 | B16: 6-0 سال
B17: 18-6 سال
B18: 29-19 سال
B19: 59-30 سال
B20: 60 سال به بالا
B21: مادر باردار
B22: جمع كل

Sheet شهریور
A1: فرم آماری مراجعات به كارشناس تغذيه
B3: پايين بودن امتياز ارزيابي الگوي تغذيه | I3: كم خوني | P3: كوتاه قدي | W3: كم وزني | AD3: لاغري | AK3: اضافه وزن | AR3: چاقي | AY3: ديابت | BF3: فشار خون بالا | BM3: ديس ليپيدمي | BT3: جمع كل
B4: 6-0 سال | C4: 18-6 سال | D4: 29-19 سال | E4: 59-30 سال | F4: 60 سال به بالا | G4: مادر باردار | H4: جمع كل | I4: 6-0 سال | J4: 18-6 سال | K4: 29-19 سال | L4: 59-30 سال | M4: 60 سال به بالا | N4: مادر باردار | O4: جمع كل | P4: 6-0 سال | Q4: 18-6 سال | R4: 29-19 سال | S4: 59-30 سال | T4: 60 سال به بالا | U4: مادر باردار | V4: جمع كل | W4: 6-0 سال | X4: 18-6 سال | Y4: 29-19 سال | Z4: 59-30 سال | AA4: 60 سال به بالا | AB4: مادر باردار | AC4: جمع كل | AD4: 6-0 سال | AE4: 18-6 سال | AF4: 29-19 سال | AG4: 59-30 سال | AH4: 60 سال به بالا | AI4: مادر باردار | AJ4: جمع كل | AK4: 6-0 سال | AL4: 18-6 سال | AM4: 29-19 سال | AN4: 59-30 سال | AO4: 60 سال به بالا | AP4: مادر باردار | AQ4: جمع كل | AR4: 6-0 سال | AS4: 18-6 سال | AT4: 29-19 سال | AU4: 59-30 سال | AV4: 60 سال به بالا | AW4: مادر باردار | AX4: جمع كل | AY4: 6-0 سال | AZ4: 18-6 سال | BA4: 29-19 سال | BB4: 59-30 سال | BC4: 60 سال به بالا | BD4: مادر باردار | BE4: جمع كل | BF4: 6-0 سال | BG4: 18-6 سال | BH4: 29-19 سال | BI4: 59-30 سال | BJ4: 60 سال به بالا | BK4: مادر باردار | BL4: جمع كل | BM4: 6-0 سال | BN4: 18-6 سال | BO4: 29-19 سال | BP4: 59-30 سال | BQ4: 60 سال به بالا | BR4: مادر باردار | BS4: جمع كل | BT4: 6-0 سال | BU4: 18-6 سال | BV4: 29-19 سال | BW4: 59-30 سال | BX4: 60 سال به بالا | BY4: مادر باردار | BZ4: جمع كل
A5: قزوین
A6: آبیک
A7: بویین زهرا
A8: البرز
A9: آوج
A10: تاکستان
A11: جمع استان | B11: =SUM(B5:B10) -> 0 | C11: =SUM(C5:C10) -> 0 | D11: =SUM(D5:D10) -> 0 | E11: =SUM(E5:E10) -> 0 | F11: =SUM(F5:F10) -> 0 | G11: =SUM(G5:G10) -> 0 | H11: =SUM(H5:H10) -> 0 | I11: =SUM(I5:I10) -> 0 | ... Z11: =SUM(Z5:Z10) -> 0 | AB11: =SUM(AB5:AB10) -> 0 | AC11: =SUM(AC5:AC10) -> 0 | AD11: =SUM(AD5:AD10) -> 0 | AE11: =SUM(AE5:AE10) -> 0 | AF11: =SUM(AF5:AF10) -> 0 | AG11: =SUM(AG5:AG10) -> 0 | AH11: =SUM(AH5:AH10) -> 0 | AI11: =SUM(AI5:AI10) -> 0 | ... BZ11: =SUM(BZ5:BZ10) -> 0
A14: فرم آماری مراجعات به كارشناس تغذيه
B15: علت مراجعه | C15: پايين بودن امتياز ارزيابي الگوي تغذيه | D15: كم خوني | E15: كوتاه قدي | F15: كم وزني | G15: لاغري | H15: اضافه وزن | I15: چاقي | J15: ديابت | K15: فشار خون بالا | L15: ديس ليپيدمي | M15: جمع كل
A16: فصل اول 1396 | B16: 6-0 سال
B17: 18-6 سال
B18: 29-19 سال
B19: 59-30 سال
B20: 60 سال به بالا
B21: مادر باردار
B22: جمع كل

Sheet سه ماهه دوم
A1: فرم آماری مراجعات به كارشناس تغذيه در سه ماهه دوم 96
B3: پايين بودن امتياز ارزيابي الگوي تغذيه | I3: كم خوني | P3: كوتاه قدي | W3: كم وزني | AD3: لاغري | AK3: اضافه وزن | AR3: چاقي | AY3: ديابت | BF3: فشار خون بالا | BM3: ديس ليپيدمي | BT3: جمع كل
B4: 6-0 سال | C4: 18-6 سال | D4: 29-19 سال | E4: 59-30 سال | F4: 60 سال به بالا | G4: مادر باردار | H4: جمع كل | I4: 6-0 سال | J4: 18-6 سال | K4: 29-19 سال | L4: 59-30 سال | M4: 60 سال به بالا | N4: مادر باردار | O4: جمع كل | P4: 6-0 سال | Q4: 18-6 سال | R4: 29-19 سال | S4: 59-30 سال | T4: 60 سال به بالا | U4: مادر باردار | V4: جمع كل | W4: 6-0 سال | X4: 18-6 سال | Y4: 29-19 سال | Z4: 59-30 سال | AA4: 60 سال به بالا | AB4: مادر باردار | AC4: جمع كل | AD4: 6-0 سال | AE4: 18-6 سال | AF4: 29-19 سال | AG4: 59-30 سال | AH4: 60 سال به بالا | AI4: مادر باردار | AJ4: جمع كل | AK4: 6-0 سال | AL4: 18-6 سال | AM4: 29-19 سال | AN4: 59-30 سال | AO4: 60 سال به بالا | AP4: مادر باردار | AQ4: جمع كل | AR4: 6-0 سال | AS4: 18-6 سال | AT4: 29-19 سال | AU4: 59-30 سال | AV4: 60 سال به بالا | AW4: مادر باردار | AX4: جمع كل | AY4: 6-0 سال | AZ4: 18-6 سال | BA4: 29-19 سال | BB4: 59-30 سال | BC4: 60 سال به بالا | BD4: مادر باردار | BE4: جمع كل | BF4: 6-0 سال | BG4: 18-6 سال | BH4: 29-19 سال | BI4: 59-30 سال | BJ4: 60 سال به بالا | BK4: مادر باردار | BL4: جمع كل | BM4: 6-0 سال | BN4: 18-6 سال | BO4: 29-19 سال | BP4: 59-30 سال | BQ4: 60 سال به بالا | BR4: مادر باردار | BS4: جمع كل | BT4: 6-0 سال | BU4: 18-6 سال | BV4: 29-19 سال | BW4: 59-30 سال | BX4: 60 سال به بالا | BY4: مادر باردار | BZ4: جمع كل
A5: قزوین | B5: =تیر!B5+مرداد!B5+شهریور!B5 -> 0 | C5: =تیر!C5+مرداد!C5+شهریور!C5 -> 0 | D5: =تیر!D5+مرداد!D5+شهریور!D5 -> 0 | E5: =تیر!E5+مرداد!E5+شهریور!E5 -> 0 | F5: =تیر!F5+مرداد!F5+شهریور!F5 -> 0 | G5: =تیر!G5+مرداد!G5+شهریور!G5 -> 0 | H5: =تیر!H5+مرداد!H5+شهریور!H5 -> 0 | I5: =تیر!I5+مرداد!I5+شهریور!I5 -> 0 | ... BZ5: =تیر!BZ5+مرداد!BZ5+شهریور!BZ5 -> 0
A6: آبیک | B6: =تیر!B6+مرداد!B6+شهریور!B6 -> 0 | C6: =تیر!C6+مرداد!C6+شهریور!C6 -> 0 | D6: =تیر!D6+مرداد!D6+شهریور!D6 -> 0 | E6: =تیر!E6+مرداد!E6+شهریور!E6 -> 0 | F6: =تیر!F6+مرداد!F6+شهریور!F6 -> 0 | G6: =تیر!G6+مرداد!G6+شهریور!G6 -> 0 | H6: =تیر!H6+مرداد!H6+شهریور!H6 -> 0 | I6: =تیر!I6+مرداد!I6+شهریور!I6 -> 0 | ... BZ6: =تیر!BZ6+مرداد!BZ6+شهریور!BZ6 -> 0
A7: بویین زهرا | B7: =تیر!B7+مرداد!B7+شهریور!B7 -> 0 | C7: =تیر!C7+مرداد!C7+شهریور!C7 -> 0 | D7: =تیر!D7+مرداد!D7+شهریور!D7 -> 0 | E7: =تیر!E7+مرداد!E7+شهریور!E7 -> 0 | F7: =تیر!F7+مرداد!F7+شهریور!F7 -> 0 | G7: =تیر!G7+مرداد!G7+شهریور!G7 -> 0 | H7: =تیر!H7+مرداد!H7+شهریور!H7 -> 0 | I7: =تیر!I7+مرداد!I7+شهریور!I7 -> 0 | ... BZ7: =تیر!BZ7+مرداد!BZ7+شهریور!BZ7 -> 0
A8: البرز | B8: =تیر!B8+مرداد!B8+شهریور!B8 -> 0 | C8: =تیر!C8+مرداد!C8+شهریور!C8 -> 0 | D8: =تیر!D8+مرداد!D8+شهریور!D8 -> 0 | E8: =تیر!E8+مرداد!E8+شهریور!E8 -> 0 | F8: =تیر!F8+مرداد!F8+شهریور!F8 -> 0 | G8: =تیر!G8+مرداد!G8+شهریور!G8 -> 0 | H8: =تیر!H8+مرداد!H8+شهریور!H8 -> 0 | I8: =تیر!I8+مرداد!I8+شهریور!I8 -> 0 | ... BZ8: =تیر!BZ8+مرداد!BZ8+شهریور!BZ8 -> 0
A9: آوج | B9: =تیر!B9+مرداد!B9+شهریور!B9 -> 0 | C9: =تیر!C9+مرداد!C9+شهریور!C9 -> 0 | D9: =تیر!D9+مرداد!D9+شهریور!D9 -> 0 | E9: =تیر!E9+مرداد!E9+شهریور!E9 -> 0 | F9: =تیر!F9+مرداد!F9+شهریور!F9 -> 0 | G9: =تیر!G9+مرداد!G9+شهریور!G9 -> 0 | H9: =تیر!H9+مرداد!H9+شهریور!H9 -> 0 | I9: =تیر!I9+مرداد!I9+شهریور!I9 -> 0 | ... BZ9: =تیر!BZ9+مرداد!BZ9+شهریور!BZ9 -> 0
A10: تاکستان | B10: =تیر!B10+مرداد!B10+شهریور!B10 -> 0 | C10: =تیر!C10+مرداد!C10+شهریور!C10 -> 0 | D10: =تیر!D10+مرداد!D10+شهریور!D10 -> 0 | E10: =تیر!E10+مرداد!E10+شهریور!E10 -> 0 | F10: =تیر!F10+مرداد!F10+شهریور!F10 -> 0 | G10: =تیر!G10+مرداد!G10+شهریور!G10 -> 0 | H10: =تیر!H10+مرداد!H10+شهریور!H10 -> 0 | I10: =تیر!I10+مرداد!I10+شهریور!I10 -> 0 | ... BZ10: =تیر!BZ10+مرداد!BZ10+شهریور!BZ10 -> 0
A11: جمع استان | B11: =SUM(B5:B10) -> 0 | C11: =SUM(C5:C10) -> 0 | D11: =SUM(D5:D10) -> 0 | E11: =SUM(E5:E10) -> 0 | F11: =SUM(F5:F10) -> 0 | G11: =SUM(G5:G10) -> 0 | H11: =SUM(H5:H10) -> 0 | I11: =SUM(I5:I10) -> 0 | ... Z11: =SUM(Z5:Z10) -> 0 | AB11: =SUM(AB5:AB10) -> 0 | AC11: =SUM(AC5:AC10) -> 0 | AD11: =SUM(AD5:AD10) -> 0 | AE11: =SUM(AE5:AE10) -> 0 | AF11: =SUM(AF5:AF10) -> 0 | AG11: =SUM(AG5:AG10) -> 0 | AH11: =SUM(AH5:AH10) -> 0 | AI11: =SUM(AI5:AI10) -> 0 | ... BZ11: =SUM(BZ5:BZ10) -> 0
A14: فرم آماری مراجعات به كارشناس تغذيه
B15: علت مراجعه | C15: پايين بودن امتياز ارزيابي الگوي تغذيه | D15: كم خوني | E15: كوتاه قدي | F15: كم وزني | G15: لاغري | H15: اضافه وزن | I15: چاقي | J15: ديابت | K15: فشار خون بالا | L15: ديس ليپيدمي | M15: جمع كل
A16: فصل دوم1396 | B16: 6-0 سال
B17: 18-6 سال
B18: 29-19 سال
B19: 59-30 سال
B20: 60 سال به بالا
B21: مادر باردار
B22: جمع كل

Sheet شش ماهه اول
A1: فرم آماری مراجعات به كارشناس تغذيه در شش ماهه اول 96
B3: پايين بودن امتياز ارزيابي الگوي تغذيه | I3: كم خوني | P3: كوتاه قدي | W3: كم وزني | AD3: لاغري | AK3: اضافه وزن | AR3: چاقي | AY3: ديابت | BF3: فشار خون بالا | BM3: ديس ليپيدمي | BT3: جمع كل
B4: 6-0 سال | C4: 18-6 سال | D4: 29-19 سال | E4: 59-30 سال | F4: 60 سال به بالا | G4: مادر باردار | H4: جمع كل | I4: 6-0 سال | J4: 18-6 سال | K4: 29-19 سال | L4: 59-30 سال | M4: 60 سال به بالا | N4: مادر باردار | O4: جمع كل | P4: 6-0 سال | Q4: 18-6 سال | R4: 29-19 سال | S4: 59-30 سال | T4: 60 سال به بالا | U4: مادر باردار | V4: جمع كل | W4: 6-0 سال | X4: 18-6 سال | Y4: 29-19 سال | Z4: 59-30 سال | AA4: 60 سال به بالا | AB4: مادر باردار | AC4: جمع كل | AD4: 6-0 سال | AE4: 18-6 سال | AF4: 29-19 سال | AG4: 59-30 سال | AH4: 60 سال به بالا | AI4: مادر باردار | AJ4: جمع كل | AK4: 6-0 سال | AL4: 18-6 سال | AM4: 29-19 سال | AN4: 59-30 سال | AO4: 60 سال به بالا | AP4: مادر باردار | AQ4: جمع كل | AR4: 6-0 سال | AS4: 18-6 سال | AT4: 29-19 سال | AU4: 59-30 سال | AV4: 60 سال به بالا | AW4: مادر باردار | AX4: جمع كل | AY4: 6-0 سال | AZ4: 18-6 سال | BA4: 29-19 سال | BB4: 59-30 سال | BC4: 60 سال به بالا | BD4: مادر باردار | BE4: جمع كل | BF4: 6-0 سال | BG4: 18-6 سال | BH4: 29-19 سال | BI4: 59-30 سال | BJ4: 60 سال به بالا | BK4: مادر باردار | BL4: جمع كل | BM4: 6-0 سال | BN4: 18-6 سال | BO4: 29-19 سال | BP4: 59-30 سال | BQ4: 60 سال به بالا | BR4: مادر باردار | BS4: جمع كل | BT4: 6-0 سال | BU4: 18-6 سال | BV4: 29-19 سال | BW4: 59-30 سال | BX4: 60 سال به بالا | BY4: مادر باردار | BZ4: جمع كل
A5: قزوین | B5: ='سه ماهه اول'!B5+'سه ماهه دوم'!B5 -> 0 | C5: ='سه ماهه اول'!C5+'سه ماهه دوم'!C5 -> 10 | D5: ='سه ماهه اول'!D5+'سه ماهه دوم'!D5 -> 4 | E5: ='سه ماهه اول'!E5+'سه ماهه دوم'!E5 -> 7 | F5: ='سه ماهه اول'!F5+'سه ماهه دوم'!F5 -> 4 | G5: ='سه ماهه اول'!G5+'سه ماهه دوم'!G5 -> 8 | H5: ='سه ماهه اول'!H5+'سه ماهه دوم'!H5 -> 33 | I5: ='سه ماهه اول'!I5+'سه ماهه دوم'!I5 -> 1 | ... BZ5: ='سه ماهه اول'!BZ5+'سه ماهه دوم'!BZ5 -> 358
A6: آبیک | B6: ='سه ماهه اول'!B6+'سه ماهه دوم'!B6 -> 0 | C6: ='سه ماهه اول'!C6+'سه ماهه دوم'!C6 -> 0 | D6: ='سه ماهه اول'!D6+'سه ماهه دوم'!D6 -> 0 | E6: ='سه ماهه اول'!E6+'سه ماهه دوم'!E6 -> 0 | F6: ='سه ماهه اول'!F6+'سه ماهه دوم'!F6 -> 0 | G6: ='سه ماهه اول'!G6+'سه ماهه دوم'!G6 -> 0 | H6: ='سه ماهه اول'!H6+'سه ماهه دوم'!H6 -> 0 | I6: ='سه ماهه اول'!I6+'سه ماهه دوم'!I6 -> 0 | ... BZ6: ='سه ماهه اول'!BZ6+'سه ماهه دوم'!BZ6 -> 0
A7: بویین زهرا | B7: ='سه ماهه اول'!B7+'سه ماهه دوم'!B7 -> 0 | C7: ='سه ماهه اول'!C7+'سه ماهه دوم'!C7 -> 0 | D7: ='سه ماهه اول'!D7+'سه ماهه دوم'!D7 -> 0 | E7: ='سه ماهه اول'!E7+'سه ماهه دوم'!E7 -> 0 | F7: ='سه ماهه اول'!F7+'سه ماهه دوم'!F7 -> 0 | G7: ='سه ماهه اول'!G7+'سه ماهه دوم'!G7 -> 0 | H7: ='سه ماهه اول'!H7+'سه ماهه دوم'!H7 -> 0 | I7: ='سه ماهه اول'!I7+'سه ماهه دوم'!I7 -> 0 | ... BZ7: ='سه ماهه اول'!BZ7+'سه ماهه دوم'!BZ7 -> 0
A8: البرز | B8: ='سه ماهه اول'!B8+'سه ماهه دوم'!B8 -> 0 | C8: ='سه ماهه اول'!C8+'سه ماهه دوم'!C8 -> 0 | D8: ='سه ماهه اول'!D8+'سه ماهه دوم'!D8 -> 0 | E8: ='سه ماهه اول'!E8+'سه ماهه دوم'!E8 -> 0 | F8: ='سه ماهه اول'!F8+'سه ماهه دوم'!F8 -> 0 | G8: ='سه ماهه اول'!G8+'سه ماهه دوم'!G8 -> 0 | H8: ='سه ماهه اول'!H8+'سه ماهه دوم'!H8 -> 0 | I8: ='سه ماهه اول'!I8+'سه ماهه دوم'!I8 -> 0 | ... BZ8: ='سه ماهه اول'!BZ8+'سه ماهه دوم'!BZ8 -> 0
A9: آوج | B9: ='سه ماهه اول'!B9+'سه ماهه دوم'!B9 -> 0 | C9: ='سه ماهه اول'!C9+'سه ماهه دوم'!C9 -> 0 | D9: ='سه ماهه اول'!D9+'سه ماهه دوم'!D9 -> 0 | E9: ='سه ماهه اول'!E9+'سه ماهه دوم'!E9 -> 0 | F9: ='سه ماهه اول'!F9+'سه ماهه دوم'!F9 -> 0 | G9: ='سه ماهه اول'!G9+'سه ماهه دوم'!G9 -> 0 | H9: ='سه ماهه اول'!H9+'سه ماهه دوم'!H9 -> 0 | I9: ='سه ماهه اول'!I9+'سه ماهه دوم'!I9 -> 0 | ... BZ9: ='سه ماهه اول'!BZ9+'سه ماهه دوم'!BZ9 -> 0
A10: تاکستان | B10: ='سه ماهه اول'!B10+'سه ماهه دوم'!B10 -> 0 | C10: ='سه ماهه اول'!C10+'سه ماهه دوم'!C10 -> 0 | D10: ='سه ماهه اول'!D10+'سه ماهه دوم'!D10 -> 0 | E10: ='سه ماهه اول'!E10+'سه ماهه دوم'!E10 -> 0 | F10: ='سه ماهه اول'!F10+'سه ماهه دوم'!F10 -> 0 | G10: ='سه ماهه اول'!G10+'سه ماهه دوم'!G10 -> 0 | H10: ='سه ماهه اول'!H10+'سه ماهه دوم'!H10 -> 0 | I10: ='سه ماهه اول'!I10+'سه ماهه دوم'!I10 -> 0 | ... BZ10: ='سه ماهه اول'!BZ10+'سه ماهه دوم'!BZ10 -> 0
A11: جمع استان | B11: =SUM(B5:B10) -> 0 | C11: =SUM(C5:C10) -> 10 | D11: =SUM(D5:D10) -> 4 | E11: =SUM(E5:E10) -> 7 | F11: =SUM(F5:F10) -> 4 | G11: =SUM(G5:G10) -> 8 | H11: =SUM(H5:H10) -> 33 | I11: =SUM(I5:I10) -> 1 | ... Z11: =SUM(Z5:Z10) -> 3 | AB11: =SUM(AB5:AB10) -> 0 | AC11: =SUM(AC5:AC10) -> 34 | AD11: =SUM(AD5:AD10) -> 0 | AE11: =SUM(AE5:AE10) -> 10 | AF11: =SUM(AF5:AF10) -> 6 | AG11: =SUM(AG5:AG10) -> 2 | AH11: =SUM(AH5:AH10) -> 0 | AI11: =SUM(AI5:AI10) -> 0 | ... BZ11: =SUM(BZ5:BZ10) -> 358
A14: فرم آماری مراجعات به كارشناس تغذيه
B15: علت مراجعه | C15: پايين بودن امتياز ارزيابي الگوي تغذيه | D15: كم خوني | E15: كوتاه قدي | F15: كم وزني | G15: لاغري | H15: اضافه وزن | I15: چاقي | J15: ديابت | K15: فشار خون بالا | L15: ديس ليپيدمي | M15: جمع كل
A16: نیم فصل اول 1396 | B16: 6-0 سال
B17: 18-6 سال
B18: 29-19 سال
B19: 59-30 سال
B20: 60 سال به بالا
B21: مادر باردار
B22: جمع كل

Sheet مهر
A1: فرم آماری مراجعات به كارشناس تغذيه
B3: پايين بودن امتياز ارزيابي الگوي تغذيه | I3: كم خوني | P3: كوتاه قدي | W3: كم وزني | AD3: لاغري | AK3: اضافه وزن | AR3: چاقي | AY3: ديابت | BF3: فشار خون بالا | BM3: ديس ليپيدمي | BT3: جمع كل
B4: 6-0 سال | C4: 18-6 سال | D4: 29-19 سال | E4: 59-30 سال | F4: 60 سال به بالا | G4: مادر باردار | H4: جمع كل | I4: 6-0 سال | J4: 18-6 سال | K4: 29-19 سال | L4: 59-30 سال | M4: 60 سال به بالا | N4: مادر باردار | O4: جمع كل | P4: 6-0 سال | Q4: 18-6 سال | R4: 29-19 سال | S4: 59-30 سال | T4: 60 سال به بالا | U4: مادر باردار | V4: جمع كل | W4: 6-0 سال | X4: 18-6 سال | Y4: 29-19 سال | Z4: 59-30 سال | AA4: 60 سال به بالا | AB4: مادر باردار | AC4: جمع كل | AD4: 6-0 سال | AE4: 18-6 سال | AF4: 29-19 سال | AG4: 59-30 سال | AH4: 60 سال به بالا | AI4: مادر باردار | AJ4: جمع كل | AK4: 6-0 سال | AL4: 18-6 سال | AM4: 29-19 سال | AN4: 59-30 سال | AO4: 60 سال به بالا | AP4: مادر باردار | AQ4: جمع كل | AR4: 6-0 سال | AS4: 18-6 سال | AT4: 29-19 سال | AU4: 59-30 سال | AV4: 60 سال به بالا | AW4: مادر باردار | AX4: جمع كل | AY4: 6-0 سال | AZ4: 18-6 سال | BA4: 29-19 سال | BB4: 59-30 سال | BC4: 60 سال به بالا | BD4: مادر باردار | BE4: جمع كل | BF4: 6-0 سال | BG4: 18-6 سال | BH4: 29-19 سال | BI4: 59-30 سال | BJ4: 60 سال به بالا | BK4: مادر باردار | BL4: جمع كل | BM4: 6-0 سال | BN4: 18-6 سال | BO4: 29-19 سال | BP4: 59-30 سال | BQ4: 60 سال به بالا | BR4: مادر باردار | BS4: جمع كل | BT4: 6-0 سال | BU4: 18-6 سال | BV4: 29-19 سال | BW4: 59-30 سال | BX4: 60 سال به بالا | BY4: مادر باردار | BZ4: جمع كل
A5: قزوین
A6: آبیک
A7: بویین زهرا
A8: البرز
A9: آوج
A10: تاکستان
A11: جمع استان | B11: =SUM(B5:B10) -> 0 | C11: =SUM(C5:C10) -> 0 | D11: =SUM(D5:D10) -> 0 | E11: =SUM(E5:E10) -> 0 | F11: =SUM(F5:F10) -> 0 | G11: =SUM(G5:G10) -> 0 | H11: =SUM(H5:H10) -> 0 | I11: =SUM(I5:I10) -> 0 | ... Z11: =SUM(Z5:Z10) -> 0 | AB11: =SUM(AB5:AB10) -> 0 | AC11: =SUM(AC5:AC10) -> 0 | AD11: =SUM(AD5:AD10) -> 0 | AE11: =SUM(AE5:AE10) -> 0 | AF11: =SUM(AF5:AF10) -> 0 | AG11: =SUM(AG5:AG10) -> 0 | AH11: =SUM(AH5:AH10) -> 0 | AI11: =SUM(AI5:AI10) -> 0 | ... BZ11: =SUM(BZ5:BZ10) -> 0
A14: فرم آماری مراجعات به كارشناس تغذيه
B15: علت مراجعه | C15: پايين بودن امتياز ارزيابي الگوي تغذيه | D15: كم خوني | E15: كوتاه قدي | F15: كم وزني | G15: لاغري | H15: اضافه وزن | I15: چاقي | J15: ديابت | K15: فشار خون بالا | L15: ديس ليپيدمي | M15: جمع كل
A16: فصل اول 1396 | B16: 6-0 سال
B17: 18-6 سال
B18: 29-19 سال
B19: 59-30 سال
B20: 60 سال به بالا
B21: مادر باردار
B22: جمع كل

Sheet آبان
A1: فرم آماری مراجعات به كارشناس تغذيه
B3: پايين بودن امتياز ارزيابي الگوي تغذيه | I3: كم خوني | P3: كوتاه قدي | W3: كم وزني | AD3: لاغري | AK3: اضافه وزن | AR3: چاقي | AY3: ديابت | BF3: فشار خون بالا | BM3: ديس ليپيدمي | BT3: جمع كل
B4: 6-0 سال | C4: 18-6 سال | D4: 29-19 سال | E4: 59-30 سال | F4: 60 سال به بالا | G4: مادر باردار | H4: جمع كل | I4: 6-0 سال | J4: 18-6 سال | K4: 29-19 سال | L4: 59-30 سال | M4: 60 سال به بالا | N4: مادر باردار | O4: جمع كل | P4: 6-0 سال | Q4: 18-6 سال | R4: 29-19 سال | S4: 59-30 سال | T4: 60 سال به بالا | U4: مادر باردار | V4: جمع كل | W4: 6-0 سال | X4: 18-6 سال | Y4: 29-19 سال | Z4: 59-30 سال | AA4: 60 سال به بالا | AB4: مادر باردار | AC4: جمع كل | AD4: 6-0 سال | AE4: 18-6 سال | AF4: 29-19 سال | AG4: 59-30 سال | AH4: 60 سال به بالا | AI4: مادر باردار | AJ4: جمع كل | AK4: 6-0 سال | AL4: 18-6 سال | AM4: 29-19 سال | AN4: 59-30 سال | AO4: 60 سال به بالا | AP4: مادر باردار | AQ4: جمع كل | AR4: 6-0 سال | AS4: 18-6 سال | AT4: 29-19 سال | AU4: 59-30 سال | AV4: 60 سال به بالا | AW4: مادر باردار | AX4: جمع كل | AY4: 6-0 سال | AZ4: 18-6 سال | BA4: 29-19 سال | BB4: 59-30 سال | BC4: 60 سال به بالا | BD4: مادر باردار | BE4: جمع كل | BF4: 6-0 سال | BG4: 18-6 سال | BH4: 29-19 سال | BI4: 59-30 سال | BJ4: 60 سال به بالا | BK4: مادر باردار | BL4: جمع كل | BM4: 6-0 سال | BN4: 18-6 سال | BO4: 29-19 سال | BP4: 59-30 سال | BQ4: 60 سال به بالا | BR4: مادر باردار | BS4: جمع كل | BT4: 6-0 سال | BU4: 18-6 سال | BV4: 29-19 سال | BW4: 59-30 سال | BX4: 60 سال به بالا | BY4: مادر باردار | BZ4: جمع كل
A5: قزوین
A6: آبیک
A7: بویین زهرا
A8: البرز
A9: آوج
A10: تاکستان
A11: جمع استان | B11: =SUM(B5:B10) -> 0 | C11: =SUM(C5:C10) -> 0 | D11: =SUM(D5:D10) -> 0 | E11: =SUM(E5:E10) -> 0 | F11: =SUM(F5:F10) -> 0 | G11: =SUM(G5:G10) -> 0 | H11: =SUM(H5:H10) -> 0 | I11: =SUM(I5:I10) -> 0 | ... Z11: =SUM(Z5:Z10) -> 0 | AB11: =SUM(AB5:AB10) -> 0 | AC11: =SUM(AC5:AC10) -> 0 | AD11: =SUM(AD5:AD10) -> 0 | AE11: =SUM(AE5:AE10) -> 0 | AF11: =SUM(AF5:AF10) -> 0 | AG11: =SUM(AG5:AG10) -> 0 | AH11: =SUM(AH5:AH10) -> 0 | AI11: =SUM(AI5:AI10) -> 0 | ... BZ11: =SUM(BZ5:BZ10) -> 0
A14: فرم آماری مراجعات به كارشناس تغذيه
B15: علت مراجعه | C15: پايين بودن امتياز ارزيابي الگوي تغذيه | D15: كم خوني | E15: كوتاه قدي | F15: كم وزني | G15: لاغري | H15: اضافه وزن | I15: چاقي | J15: ديابت | K15: فشار خون بالا | L15: ديس ليپيدمي | M15: جمع كل
A16: فصل اول 1396 | B16: 6-0 سال
B17: 18-6 سال
B18: 29-19 سال
B19: 59-30 سال
B20: 60 سال به بالا
B21: مادر باردار
B22: جمع كل

Sheet آذر
A1: فرم آماری مراجعات به كارشناس تغذيه
B3: پايين بودن امتياز ارزيابي الگوي تغذيه | I3: كم خوني | P3: كوتاه قدي | W3: كم وزني | AD3: لاغري | AK3: اضافه وزن | AR3: چاقي | AY3: ديابت | BF3: فشار خون بالا | BM3: ديس ليپيدمي | BT3: جمع كل
B4: 6-0 سال | C4: 18-6 سال | D4: 29-19 سال | E4: 59-30 سال | F4: 60 سال به بالا | G4: مادر باردار | H4: جمع كل | I4: 6-0 سال | J4: 18-6 سال | K4: 29-19 سال | L4: 59-30 سال | M4: 60 سال به بالا | N4: مادر باردار | O4: جمع كل | P4: 6-0 سال | Q4: 18-6 سال | R4: 29-19 سال | S4: 59-30 سال | T4: 60 سال به بالا | U4: مادر باردار | V4: جمع كل | W4: 6-0 سال | X4: 18-6 سال | Y4: 29-19 سال | Z4: 59-30 سال | AA4: 60 سال به بالا | AB4: مادر باردار | AC4: جمع كل | AD4: 6-0 سال | AE4: 18-6 سال | AF4: 29-19 سال | AG4: 59-30 سال | AH4: 60 سال به بالا | AI4: مادر باردار | AJ4: جمع كل | AK4: 6-0 سال | AL4: 18-6 سال | AM4: 29-19 سال | AN4: 59-30 سال | AO4: 60 سال به بالا | AP4: مادر باردار | AQ4: جمع كل | AR4: 6-0 سال | AS4: 18-6 سال | AT4: 29-19 سال | AU4: 59-30 سال | AV4: 60 سال به بالا | AW4: مادر باردار | AX4: جمع كل | AY4: 6-0 سال | AZ4: 18-6 سال | BA4: 29-19 سال | BB4: 59-30 سال | BC4: 60 سال به بالا | BD4: مادر باردار | BE4: جمع كل | BF4: 6-0 سال | BG4: 18-6 سال | BH4: 29-19 سال | BI4: 59-30 سال | BJ4: 60 سال به بالا | BK4: مادر باردار | BL4: جمع كل | BM4: 6-0 سال | BN4: 18-6 سال | BO4: 29-19 سال | BP4: 59-30 سال | BQ4: 60 سال به بالا | BR4: مادر باردار | BS4: جمع كل | BT4: 6-0 سال | BU4: 18-6 سال | BV4: 29-19 سال | BW4: 59-30 سال | BX4: 60 سال به بالا | BY4: مادر باردار | BZ4: جمع كل
A5: قزوین
A6: آبیک
A7: بویین زهرا
A8: البرز
A9: آوج
A10: تاکستان
A11: جمع استان | B11: =SUM(B5:B10) -> 0 | C11: =SUM(C5:C10) -> 0 | D11: =SUM(D5:D10) -> 0 | E11: =SUM(E5:E10) -> 0 | F11: =SUM(F5:F10) -> 0 | G11: =SUM(G5:G10) -> 0 | H11: =SUM(H5:H10) -> 0 | I11: =SUM(I5:I10) -> 0 | ... Z11: =SUM(Z5:Z10) -> 0 | AB11: =SUM(AB5:AB10) -> 0 | AC11: =SUM(AC5:AC10) -> 0 | AD11: =SUM(AD5:AD10) -> 0 | AE11: =SUM(AE5:AE10) -> 0 | AF11: =SUM(AF5:AF10) -> 0 | AG11: =SUM(AG5:AG10) -> 0 | AH11: =SUM(AH5:AH10) -> 0 | AI11: =SUM(AI5:AI10) -> 0 | ... BZ11: =SUM(BZ5:BZ10) -> 0
A14: فرم آماری مراجعات به كارشناس تغذيه
B15: علت مراجعه | C15: پايين بودن امتياز ارزيابي الگوي تغذيه | D15: كم خوني | E15: كوتاه قدي | F15: كم وزني | G15: لاغري | H15: اضافه وزن | I15: چاقي | J15: ديابت | K15: فشار خون بالا | L15: ديس ليپيدمي | M15: جمع كل
A16: فصل اول 1396 | B16: 6-0 سال
B17: 18-6 سال
B18: 29-19 سال
B19: 59-30 سال
B20: 60 سال به بالا
B21: مادر باردار
B22: جمع كل

Sheet سه ماهه سوم
A1: فرم آماری مراجعات به كارشناس تغذيه در سه ماهه سوم 96
B3: پايين بودن امتياز ارزيابي الگوي تغذيه | I3: كم خوني | P3: كوتاه قدي | W3: كم وزني | AD3: لاغري | AK3: اضافه وزن | AR3: چاقي | AY3: ديابت | BF3: فشار خون بالا | BM3: ديس ليپيدمي | BT3: جمع كل
B4: 6-0 سال | C4: 18-6 سال | D4: 29-19 سال | E4: 59-30 سال | F4: 60 سال به بالا | G4: مادر باردار | H4: جمع كل | I4: 6-0 سال | J4: 18-6 سال | K4: 29-19 سال | L4: 59-30 سال | M4: 60 سال به بالا | N4: مادر باردار | O4: جمع كل | P4: 6-0 سال | Q4: 18-6 سال | R4: 29-19 سال | S4: 59-30 سال | T4: 60 سال به بالا | U4: مادر باردار | V4: جمع كل | W4: 6-0 سال | X4: 18-6 سال | Y4: 29-19 سال | Z4: 59-30 سال | AA4: 60 سال به بالا | AB4: مادر باردار | AC4: جمع كل | AD4: 6-0 سال | AE4: 18-6 سال | AF4: 29-19 سال | AG4: 59-30 سال | AH4: 60 سال به بالا | AI4: مادر باردار | AJ4: جمع كل | AK4: 6-0 سال | AL4: 18-6 سال | AM4: 29-19 سال | AN4: 59-30 سال | AO4: 60 سال به بالا | AP4: مادر باردار | AQ4: جمع كل | AR4: 6-0 سال | AS4: 18-6 سال | AT4: 29-19 سال | AU4: 59-30 سال | AV4: 60 سال به بالا | AW4: مادر باردار | AX4: جمع كل | AY4: 6-0 سال | AZ4: 18-6 سال | BA4: 29-19 سال | BB4: 59-30 سال | BC4: 60 سال به بالا | BD4: مادر باردار | BE4: جمع كل | BF4: 6-0 سال | BG4: 18-6 سال | BH4: 29-19 سال | BI4: 59-30 سال | BJ4: 60 سال به بالا | BK4: مادر باردار | BL4: جمع كل | BM4: 6-0 سال | BN4: 18-6 سال | BO4: 29-19 سال | BP4: 59-30 سال | BQ4: 60 سال به بالا | BR4: مادر باردار | BS4: جمع كل | BT4: 6-0 سال | BU4: 18-6 سال | BV4: 29-19 سال | BW4: 59-30 سال | BX4: 60 سال به بالا | BY4: مادر باردار | BZ4: جمع كل
A5: قزوین | B5: =مهر!B5+آبان!B5+آذر!B5 -> 0 | C5: =مهر!C5+آبان!C5+آذر!C5 -> 0 | D5: =مهر!D5+آبان!D5+آذر!D5 -> 0 | E5: =مهر!E5+آبان!E5+آذر!E5 -> 0 | F5: =مهر!F5+آبان!F5+آذر!F5 -> 0 | G5: =مهر!G5+آبان!G5+آذر!G5 -> 0 | H5: =مهر!H5+آبان!H5+آذر!H5 -> 0 | I5: =مهر!I5+آبان!I5+آذر!I5 -> 0 | ... BZ5: =مهر!BZ5+آبان!BZ5+آذر!BZ5 -> 0
A6: آبیک | B6: =مهر!B6+آبان!B6+آذر!B6 -> 0 | C6: =مهر!C6+آبان!C6+آذر!C6 -> 0 | D6: =مهر!D6+آبان!D6+آذر!D6 -> 0 | E6: =مهر!E6+آبان!E6+آذر!E6 -> 0 | F6: =مهر!F6+آبان!F6+آذر!F6 -> 0 | G6: =مهر!G6+آبان!G6+آذر!G6 -> 0 | H6: =مهر!H6+آبان!H6+آذر!H6 -> 0 | I6: =مهر!I6+آبان!I6+آذر!I6 -> 0 | ... BZ6: =مهر!BZ6+آبان!BZ6+آذر!BZ6 -> 0
A7: بویین زهرا | B7: =مهر!B7+آبان!B7+آذر!B7 -> 0 | C7: =مهر!C7+آبان!C7+آذر!C7 -> 0 | D7: =مهر!D7+آبان!D7+آذر!D7 -> 0 | E7: =مهر!E7+آبان!E7+آذر!E7 -> 0 | F7: =مهر!F7+آبان!F7+آذر!F7 -> 0 | G7: =مهر!G7+آبان!G7+آذر!G7 -> 0 | H7: =مهر!H7+آبان!H7+آذر!H7 -> 0 | I7: =مهر!I7+آبان!I7+آذر!I7 -> 0 | ... BZ7: =مهر!BZ7+آبان!BZ7+آذر!BZ7 -> 0
A8: البرز | B8: =مهر!B8+آبان!B8+آذر!B8 -> 0 | C8: =مهر!C8+آبان!C8+آذر!C8 -> 0 | D8: =مهر!D8+آبان!D8+آذر!D8 -> 0 | E8: =مهر!E8+آبان!E8+آذر!E8 -> 0 | F8: =مهر!F8+آبان!F8+آذر!F8 -> 0 | G8: =مهر!G8+آبان!G8+آذر!G8 -> 0 | H8: =مهر!H8+آبان!H8+آذر!H8 -> 0 | I8: =مهر!I8+آبان!I8+آذر!I8 -> 0 | ... BZ8: =مهر!BZ8+آبان!BZ8+آذر!BZ8 -> 0
A9: آوج | B9: =مهر!B9+آبان!B9+آذر!B9 -> 0 | C9: =مهر!C9+آبان!C9+آذر!C9 -> 0 | D9: =مهر!D9+آبان!D9+آذر!D9 -> 0 | E9: =مهر!E9+آبان!E9+آذر!E9 -> 0 | F9: =مهر!F9+آبان!F9+آذر!F9 -> 0 | G9: =مهر!G9+آبان!G9+آذر!G9 -> 0 | H9: =مهر!H9+آبان!H9+آذر!H9 -> 0 | I9: =مهر!I9+آبان!I9+آذر!I9 -> 0 | ... BZ9: =مهر!BZ9+آبان!BZ9+آذر!BZ9 -> 0
A10: تاکستان | B10: =مهر!B10+آبان!B10+آذر!B10 -> 0 | C10: =مهر!C10+آبان!C10+آذر!C10 -> 0 | D10: =مهر!D10+آبان!D10+آذر!D10 -> 0 | E10: =مهر!E10+آبان!E10+آذر!E10 -> 0 | F10: =مهر!F10+آبان!F10+آذر!F10 -> 0 | G10: =مهر!G10+آبان!G10+آذر!G10 -> 0 | H10: =مهر!H10+آبان!H10+آذر!H10 -> 0 | I10: =مهر!I10+آبان!I10+آذر!I10 -> 0 | ... BZ10: =مهر!BZ10+آبان!BZ10+آذر!BZ10 -> 0
A11: جمع استان | B11: =SUM(B5:B10) -> 0 | C11: =SUM(C5:C10) -> 0 | D11: =SUM(D5:D10) -> 0 | E11: =SUM(E5:E10) -> 0 | F11: =SUM(F5:F10) -> 0 | G11: =SUM(G5:G10) -> 0 | H11: =SUM(H5:H10) -> 0 | I11: =SUM(I5:I10) -> 0 | ... Z11: =SUM(Z5:Z10) -> 0 | AB11: =SUM(AB5:AB10) -> 0 | AC11: =SUM(AC5:AC10) -> 0 | AD11: =SUM(AD5:AD10) -> 0 | AE11: =SUM(AE5:AE10) -> 0 | AF11: =SUM(AF5:AF10) -> 0 | AG11: =SUM(AG5:AG10) -> 0 | AH11: =SUM(AH5:AH10) -> 0 | AI11: =SUM(AI5:AI10) -> 0 | ... BZ11: =SUM(BZ5:BZ10) -> 0
A14: فرم آماری مراجعات به كارشناس تغذيه
B15: علت مراجعه | C15: پايين بودن امتياز ارزيابي الگوي تغذيه | D15: كم خوني | E15: كوتاه قدي | F15: كم وزني | G15: لاغري | H15: اضافه وزن | I15: چاقي | J15: ديابت | K15: فشار خون بالا | L15: ديس ليپيدمي | M15: جمع كل
A16: فصل سوم 1396 | B16: 6-0 سال
B17: 18-6 سال
B18: 29-19 سال
B19: 59-30 سال
B20: 60 سال به بالا
B21: مادر باردار
B22: جمع كل

Sheet دی
A1: فرم آماری مراجعات به كارشناس تغذيه
B3: پايين بودن امتياز ارزيابي الگوي تغذيه | I3: كم خوني | P3: كوتاه قدي | W3: كم وزني | AD3: لاغري | AK3: اضافه وزن | AR3: چاقي | AY3: ديابت | BF3: فشار خون بالا | BM3: ديس ليپيدمي | BT3: جمع كل
B4: 6-0 سال | C4: 18-6 سال | D4: 29-19 سال | E4: 59-30 سال | F4: 60 سال به بالا | G4: مادر باردار | H4: جمع كل | I4: 6-0 سال | J4: 18-6 سال | K4: 29-19 سال | L4: 59-30 سال | M4: 60 سال به بالا | N4: مادر باردار | O4: جمع كل | P4: 6-0 سال | Q4: 18-6 سال | R4: 29-19 سال | S4: 59-30 سال | T4: 60 سال به بالا | U4: مادر باردار | V4: جمع كل | W4: 6-0 سال | X4: 18-6 سال | Y4: 29-19 سال | Z4: 59-30 سال | AA4: 60 سال به بالا | AB4: مادر باردار | AC4: جمع كل | AD4: 6-0 سال | AE4: 18-6 سال | AF4: 29-19 سال | AG4: 59-30 سال | AH4: 60 سال به بالا | AI4: مادر باردار | AJ4: جمع كل | AK4: 6-0 سال | AL4: 18-6 سال | AM4: 29-19 سال | AN4: 59-30 سال | AO4: 60 سال به بالا | AP4: مادر باردار | AQ4: جمع كل | AR4: 6-0 سال | AS4: 18-6 سال | AT4: 29-19 سال | AU4: 59-30 سال | AV4: 60 سال به بالا | AW4: مادر باردار | AX4: جمع كل | AY4: 6-0 سال | AZ4: 18-6 سال | BA4: 29-19 سال | BB4: 59-30 سال | BC4: 60 سال به بالا | BD4: مادر باردار | BE4: جمع كل | BF4: 6-0 سال | BG4: 18-6 سال | BH4: 29-19 سال | BI4: 59-30 سال | BJ4: 60 سال به بالا | BK4: مادر باردار | BL4: جمع كل | BM4: 6-0 سال | BN4: 18-6 سال | BO4: 29-19 سال | BP4: 59-30 سال | BQ4: 60 سال به بالا | BR4: مادر باردار | BS4: جمع كل | BT4: 6-0 سال | BU4: 18-6 سال | BV4: 29-19 سال | BW4: 59-30 سال | BX4: 60 سال به بالا | BY4: مادر باردار | BZ4: جمع كل
A5: قزوین
A6: آبیک
A7: بویین زهرا
A8: البرز
A9: آوج
A10: تاکستان
A11: جمع استان | B11: =SUM(B5:B10) -> 0 | C11: =SUM(C5:C10) -> 0 | D11: =SUM(D5:D10) -> 0 | E11: =SUM(E5:E10) -> 0 | F11: =SUM(F5:F10) -> 0 | G11: =SUM(G5:G10) -> 0 | H11: =SUM(H5:H10) -> 0 | I11: =SUM(I5:I10) -> 0 | ... Z11: =SUM(Z5:Z10) -> 0 | AB11: =SUM(AB5:AB10) -> 0 | AC11: =SUM(AC5:AC10) -> 0 | AD11: =SUM(AD5:AD10) -> 0 | AE11: =SUM(AE5:AE10) -> 0 | AF11: =SUM(AF5:AF10) -> 0 | AG11: =SUM(AG5:AG10) -> 0 | AH11: =SUM(AH5:AH10) -> 0 | AI11: =SUM(AI5:AI10) -> 0 | ... BZ11: =SUM(BZ5:BZ10) -> 0
A14: فرم آماری مراجعات به كارشناس تغذيه
B15: علت مراجعه | C15: پايين بودن امتياز ارزيابي الگوي تغذيه | D15: كم خوني | E15: كوتاه قدي | F15: كم وزني | G15: لاغري | H15: اضافه وزن | I15: چاقي | J15: ديابت | K15: فشار خون بالا | L15: ديس ليپيدمي | M15: جمع كل
A16: فصل اول 1396 | B16: 6-0 سال
B17: 18-6 سال
B18: 29-19 سال
B19: 59-30 سال
B20: 60 سال به بالا
B21: مادر باردار
B22: جمع كل

Sheet بهمن
A1: فرم آماری مراجعات به كارشناس تغذيه
B3: پايين بودن امتياز ارزيابي الگوي تغذيه | I3: كم خوني | P3: كوتاه قدي | W3: كم وزني | AD3: لاغري | AK3: اضافه وزن | AR3: چاقي | AY3: ديابت | BF3: فشار خون بالا | BM3: ديس ليپيدمي | BT3: جمع كل
B4: 6-0 سال | C4: 18-6 سال | D4: 29-19 سال | E4: 59-30 سال | F4: 60 سال به بالا | G4: مادر باردار | H4: جمع كل | I4: 6-0 سال | J4: 18-6 سال | K4: 29-19 سال | L4: 59-30 سال | M4: 60 سال به بالا | N4: مادر باردار | O4: جمع كل | P4: 6-0 سال | Q4: 18-6 سال | R4: 29-19 سال | S4: 59-30 سال | T4: 60 سال به بالا | U4: مادر باردار | V4: جمع كل | W4: 6-0 سال | X4: 18-6 سال | Y4: 29-19 سال | Z4: 59-30 سال | AA4: 60 سال به بالا | AB4: مادر باردار | AC4: جمع كل | AD4: 6-0 سال | AE4: 18-6 سال | AF4: 29-19 سال | AG4: 59-30 سال | AH4: 60 سال به بالا | AI4: مادر باردار | AJ4: جمع كل | AK4: 6-0 سال | AL4: 18-6 سال | AM4: 29-19 سال | AN4: 59-30 سال | AO4: 60 سال به بالا | AP4: مادر باردار | AQ4: جمع كل | AR4: 6-0 سال | AS4: 18-6 سال | AT4: 29-19 سال | AU4: 59-30 سال | AV4: 60 سال به بالا | AW4: مادر باردار | AX4: جمع كل | AY4: 6-0 سال | AZ4: 18-6 سال | BA4: 29-19 سال | BB4: 59-30 سال | BC4: 60 سال به بالا | BD4: مادر باردار | BE4: جمع كل | BF4: 6-0 سال | BG4: 18-6 سال | BH4: 29-19 سال | BI4: 59-30 سال | BJ4: 60 سال به بالا | BK4: مادر باردار | BL4: جمع كل | BM4: 6-0 سال | BN4: 18-6 سال | BO4: 29-19 سال | BP4: 59-30 سال | BQ4: 60 سال به بالا | BR4: مادر باردار | BS4: جمع كل | BT4: 6-0 سال | BU4: 18-6 سال | BV4: 29-19 سال | BW4: 59-30 سال | BX4: 60 سال به بالا | BY4: مادر باردار | BZ4: جمع كل
A5: قزوین
A6: آبیک
A7: بویین زهرا
A8: البرز
A9: آوج
A10: تاکستان
A11: جمع استان | B11: =SUM(B5:B10) -> 0 | C11: =SUM(C5:C10) -> 0 | D11: =SUM(D5:D10) -> 0 | E11: =SUM(E5:E10) -> 0 | F11: =SUM(F5:F10) -> 0 | G11: =SUM(G5:G10) -> 0 | H11: =SUM(H5:H10) -> 0 | I11: =SUM(I5:I10) -> 0 | ... Z11: =SUM(Z5:Z10) -> 0 | AB11: =SUM(AB5:AB10) -> 0 | AC11: =SUM(AC5:AC10) -> 0 | AD11: =SUM(AD5:AD10) -> 0 | AE11: =SUM(AE5:AE10) -> 0 | AF11: =SUM(AF5:AF10) -> 0 | AG11: =SUM(AG5:AG10) -> 0 | AH11: =SUM(AH5:AH10) -> 0 | AI11: =SUM(AI5:AI10) -> 0 | ... BZ11: =SUM(BZ5:BZ10) -> 0
A14: فرم آماری مراجعات به كارشناس تغذيه
B15: علت مراجعه | C15: پايين بودن امتياز ارزيابي الگوي تغذيه | D15: كم خوني | E15: كوتاه قدي | F15: كم وزني | G15: لاغري | H15: اضافه وزن | I15: چاقي | J15: ديابت | K15: فشار خون بالا | L15: ديس ليپيدمي | M15: جمع كل
A16: فصل اول 1396 | B16: 6-0 سال
B17: 18-6 سال
B18: 29-19 سال
B19: 59-30 سال
B20: 60 سال به بالا
B21: مادر باردار
B22: جمع كل

Sheet اسفند
A1: فرم آماری مراجعات به كارشناس تغذيه
B3: پايين بودن امتياز ارزيابي الگوي تغذيه | I3: كم خوني | P3: كوتاه قدي | W3: كم وزني | AD3: لاغري | AK3: اضافه وزن | AR3: چاقي | AY3: ديابت | BF3: فشار خون بالا | BM3: ديس ليپيدمي | BT3: جمع كل
B4: 6-0 سال | C4: 18-6 سال | D4: 29-19 سال | E4: 59-30 سال | F4: 60 سال به بالا | G4: مادر باردار | H4: جمع كل | I4: 6-0 سال | J4: 18-6 سال | K4: 29-19 سال | L4: 59-30 سال | M4: 60 سال به بالا | N4: مادر باردار | O4: جمع كل | P4: 6-0 سال | Q4: 18-6 سال | R4: 29-19 سال | S4: 59-30 سال | T4: 60 سال به بالا | U4: مادر باردار | V4: جمع كل | W4: 6-0 سال | X4: 18-6 سال | Y4: 29-19 سال | Z4: 59-30 سال | AA4: 60 سال به بالا | AB4: مادر باردار | AC4: جمع كل | AD4: 6-0 سال | AE4: 18-6 سال | AF4: 29-19 سال | AG4: 59-30 سال | AH4: 60 سال به بالا | AI4: مادر باردار | AJ4: جمع كل | AK4: 6-0 سال | AL4: 18-6 سال | AM4: 29-19 سال | AN4: 59-30 سال | AO4: 60 سال به بالا | AP4: مادر باردار | AQ4: جمع كل | AR4: 6-0 سال | AS4: 18-6 سال | AT4: 29-19 سال | AU4: 59-30 سال | AV4: 60 سال به بالا | AW4: مادر باردار | AX4: جمع كل | AY4: 6-0 سال | AZ4: 18-6 سال | BA4: 29-19 سال | BB4: 59-30 سال | BC4: 60 سال به بالا | BD4: مادر باردار | BE4: جمع كل | BF4: 6-0 سال | BG4: 18-6 سال | BH4: 29-19 سال | BI4: 59-30 سال | BJ4: 60 سال به بالا | BK4: مادر باردار | BL4: جمع كل | BM4: 6-0 سال | BN4: 18-6 سال | BO4: 29-19 سال | BP4: 59-30 سال | BQ4: 60 سال به بالا | BR4: مادر باردار | BS4: جمع كل | BT4: 6-0 سال | BU4: 18-6 سال | BV4: 29-19 سال | BW4: 59-30 سال | BX4: 60 سال به بالا | BY4: مادر باردار | BZ4: جمع كل
A5: قزوین
A6: آبیک
A7: بویین زهرا
A8: البرز
A9: آوج
A10: تاکستان
A11: جمع استان | B11: =SUM(B5:B10) -> 0 | C11: =SUM(C5:C10) -> 0 | D11: =SUM(D5:D10) -> 0 | E11: =SUM(E5:E10) -> 0 | F11: =SUM(F5:F10) -> 0 | G11: =SUM(G5:G10) -> 0 | H11: =SUM(H5:H10) -> 0 | I11: =SUM(I5:I10) -> 0 | ... Z11: =SUM(Z5:Z10) -> 0 | AB11: =SUM(AB5:AB10) -> 0 | AC11: =SUM(AC5:AC10) -> 0 | AD11: =SUM(AD5:AD10) -> 0 | AE11: =SUM(AE5:AE10) -> 0 | AF11: =SUM(AF5:AF10) -> 0 | AG11: =SUM(AG5:AG10) -> 0 | AH11: =SUM(AH5:AH10) -> 0 | AI11: =SUM(AI5:AI10) -> 0 | ... BZ11: =SUM(BZ5:BZ10) -> 0
A14: فرم آماری مراجعات به كارشناس تغذيه
B15: علت مراجعه | C15: پايين بودن امتياز ارزيابي الگوي تغذيه | D15: كم خوني | E15: كوتاه قدي | F15: كم وزني | G15: لاغري | H15: اضافه وزن | I15: چاقي | J15: ديابت | K15: فشار خون بالا | L15: ديس ليپيدمي | M15: جمع كل
A16: فصل اول 1396 | B16: 6-0 سال
B17: 18-6 سال
B18: 29-19 سال
B19: 59-30 سال
B20: 60 سال به بالا
B21: مادر باردار
B22: جمع كل

Sheet سه ماهه چهارم
A1: فرم آماری مراجعات به كارشناس تغذيه در سه ماهه چهارم 96
B3: پايين بودن امتياز ارزيابي الگوي تغذيه | I3: كم خوني | P3: كوتاه قدي | W3: كم وزني | AD3: لاغري | AK3: اضافه وزن | AR3: چاقي | AY3: ديابت | BF3: فشار خون بالا | BM3: ديس ليپيدمي | BT3: جمع كل
B4: 6-0 سال | C4: 18-6 سال | D4: 29-19 سال | E4: 59-30 سال | F4: 60 سال به بالا | G4: مادر باردار | H4: جمع كل | I4: 6-0 سال | J4: 18-6 سال | K4: 29-19 سال | L4: 59-30 سال | M4: 60 سال به بالا | N4: مادر باردار | O4: جمع كل | P4: 6-0 سال | Q4: 18-6 سال | R4: 29-19 سال | S4: 59-30 سال | T4: 60 سال به بالا | U4: مادر باردار | V4: جمع كل | W4: 6-0 سال | X4: 18-6 سال | Y4: 29-19 سال | Z4: 59-30 سال | AA4: 60 سال به بالا | AB4: مادر باردار | AC4: جمع كل | AD4: 6-0 سال | AE4: 18-6 سال | AF4: 29-19 سال | AG4: 59-30 سال | AH4: 60 سال به بالا | AI4: مادر باردار | AJ4: جمع كل | AK4: 6-0 سال | AL4: 18-6 سال | AM4: 29-19 سال | AN4: 59-30 سال | AO4: 60 سال به بالا | AP4: مادر باردار | AQ4: جمع كل | AR4: 6-0 سال | AS4: 18-6 سال | AT4: 29-19 سال | AU4: 59-30 سال | AV4: 60 سال به بالا | AW4: مادر باردار | AX4: جمع كل | AY4: 6-0 سال | AZ4: 18-6 سال | BA4: 29-19 سال | BB4: 59-30 سال | BC4: 60 سال به بالا | BD4: مادر باردار | BE4: جمع كل | BF4: 6-0 سال | BG4: 18-6 سال | BH4: 29-19 سال | BI4: 59-30 سال | BJ4: 60 سال به بالا | BK4: مادر باردار | BL4: جمع كل | BM4: 6-0 سال | BN4: 18-6 سال | BO4: 29-19 سال | BP4: 59-30 سال | BQ4: 60 سال به بالا | BR4: مادر باردار | BS4: جمع كل | BT4: 6-0 سال | BU4: 18-6 سال | BV4: 29-19 سال | BW4: 59-30 سال | BX4: 60 سال به بالا | BY4: مادر باردار | BZ4: جمع كل
A5: قزوین | B5: =دی!B5+بهمن!B5+اسفند!B5 -> 0 | C5: =دی!C5+بهمن!C5+اسفند!C5 -> 0 | D5: =دی!D5+بهمن!D5+اسفند!D5 -> 0 | E5: =دی!E5+بهمن!E5+اسفند!E5 -> 0 | F5: =دی!F5+بهمن!F5+اسفند!F5 -> 0 | G5: =دی!G5+بهمن!G5+اسفند!G5 -> 0 | H5: =دی!H5+بهمن!H5+اسفند!H5 -> 0 | I5: =دی!I5+بهمن!I5+اسفند!I5 -> 0 | ... BZ5: =دی!BZ5+بهمن!BZ5+اسفند!BZ5 -> 0
A6: آبیک | B6: =دی!B6+بهمن!B6+اسفند!B6 -> 0 | C6: =دی!C6+بهمن!C6+اسفند!C6 -> 0 | D6: =دی!D6+بهمن!D6+اسفند!D6 -> 0 | E6: =دی!E6+بهمن!E6+اسفند!E6 -> 0 | F6: =دی!F6+بهمن!F6+اسفند!F6 -> 0 | G6: =دی!G6+بهمن!G6+اسفند!G6 -> 0 | H6: =دی!H6+بهمن!H6+اسفند!H6 -> 0 | I6: =دی!I6+بهمن!I6+اسفند!I6 -> 0 | ... BZ6: =دی!BZ6+بهمن!BZ6+اسفند!BZ6 -> 0
A7: بویین زهرا | B7: =دی!B7+بهمن!B7+اسفند!B7 -> 0 | C7: =دی!C7+بهمن!C7+اسفند!C7 -> 0 | D7: =دی!D7+بهمن!D7+اسفند!D7 -> 0 | E7: =دی!E7+بهمن!E7+اسفند!E7 -> 0 | F7: =دی!F7+بهمن!F7+اسفند!F7 -> 0 | G7: =دی!G7+بهمن!G7+اسفند!G7 -> 0 | H7: =دی!H7+بهمن!H7+اسفند!H7 -> 0 | I7: =دی!I7+بهمن!I7+اسفند!I7 -> 0 | ... BZ7: =دی!BZ7+بهمن!BZ7+اسفند!BZ7 -> 0
A8: البرز | B8: =دی!B8+بهمن!B8+اسفند!B8 -> 0 | C8: =دی!C8+بهمن!C8+اسفند!C8 -> 0 | D8: =دی!D8+بهمن!D8+اسفند!D8 -> 0 | E8: =دی!E8+بهمن!E8+اسفند!E8 -> 0 | F8: =دی!F8+بهمن!F8+اسفند!F8 -> 0 | G8: =دی!G8+بهمن!G8+اسفند!G8 -> 0 | H8: =دی!H8+بهمن!H8+اسفند!H8 -> 0 | I8: =دی!I8+بهمن!I8+اسفند!I8 -> 0 | ... BZ8: =دی!BZ8+بهمن!BZ8+اسفند!BZ8 -> 0
A9: آوج | B9: =دی!B9+بهمن!B9+اسفند!B9 -> 0 | C9: =دی!C9+بهمن!C9+اسفند!C9 -> 0 | D9: =دی!D9+بهمن!D9+اسفند!D9 -> 0 | E9: =دی!E9+بهمن!E9+اسفند!E9 -> 0 | F9: =دی!F9+بهمن!F9+اسفند!F9 -> 0 | G9: =دی!G9+بهمن!G9+اسفند!G9 -> 0 | H9: =دی!H9+بهمن!H9+اسفند!H9 -> 0 | I9: =دی!I9+بهمن!I9+اسفند!I9 -> 0 | ... BZ9: =دی!BZ9+بهمن!BZ9+اسفند!BZ9 -> 0
A10: تاکستان | B10: =دی!B10+بهمن!B10+اسفند!B10 -> 0 | C10: =دی!C10+بهمن!C10+اسفند!C10 -> 0 | D10: =دی!D10+بهمن!D10+اسفند!D10 -> 0 | E10: =دی!E10+بهمن!E10+اسفند!E10 -> 0 | F10: =دی!F10+بهمن!F10+اسفند!F10 -> 0 | G10: =دی!G10+بهمن!G10+اسفند!G10 -> 0 | H10: =دی!H10+بهمن!H10+اسفند!H10 -> 0 | I10: =دی!I10+بهمن!I10+اسفند!I10 -> 0 | ... BZ10: =دی!BZ10+بهمن!BZ10+اسفند!BZ10 -> 0
A11: جمع استان | B11: =SUM(B5:B10) -> 0 | C11: =SUM(C5:C10) -> 0 | D11: =SUM(D5:D10) -> 0 | E11: =SUM(E5:E10) -> 0 | F11: =SUM(F5:F10) -> 0 | G11: =SUM(G5:G10) -> 0 | H11: =SUM(H5:H10) -> 0 | I11: =SUM(I5:I10) -> 0 | ... Z11: =SUM(Z5:Z10) -> 0 | AB11: =SUM(AB5:AB10) -> 0 | AC11: =SUM(AC5:AC10) -> 0 | AD11: =SUM(AD5:AD10) -> 0 | AE11: =SUM(AE5:AE10) -> 0 | AF11: =SUM(AF5:AF10) -> 0 | AG11: =SUM(AG5:AG10) -> 0 | AH11: =SUM(AH5:AH10) -> 0 | AI11: =SUM(AI5:AI10) -> 0 | ... BZ11: =SUM(BZ5:BZ10) -> 0
A14: فرم آماری مراجعات به كارشناس تغذيه
B15: علت مراجعه | C15: پايين بودن امتياز ارزيابي الگوي تغذيه | D15: كم خوني | E15: كوتاه قدي | F15: كم وزني | G15: لاغري | H15: اضافه وزن | I15: چاقي | J15: ديابت | K15: فشار خون بالا | L15: ديس ليپيدمي | M15: جمع كل
A16: فصل چهارم 1396 | B16: 6-0 سال
B17: 18-6 سال
B18: 29-19 سال
B19: 59-30 سال
B20: 60 سال به بالا
B21: مادر باردار
B22: جمع كل

Sheet شش ماهه دوم
A1: فرم آماری مراجعات به كارشناس تغذيه در شش ماهه دوم 96
B3: پايين بودن امتياز ارزيابي الگوي تغذيه | I3: كم خوني | P3: كوتاه قدي | W3: كم وزني | AD3: لاغري | AK3: اضافه وزن | AR3: چاقي | AY3: ديابت | BF3: فشار خون بالا | BM3: ديس ليپيدمي | BT3: جمع كل
B4: 6-0 سال | C4: 18-6 سال | D4: 29-19 سال | E4: 59-30 سال | F4: 60 سال به بالا | G4: مادر باردار | H4: جمع كل | I4: 6-0 سال | J4: 18-6 سال | K4: 29-19 سال | L4: 59-30 سال | M4: 60 سال به بالا | N4: مادر باردار | O4: جمع كل | P4: 6-0 سال | Q4: 18-6 سال | R4: 29-19 سال | S4: 59-30 سال | T4: 60 سال به بالا | U4: مادر باردار | V4: جمع كل | W4: 6-0 سال | X4: 18-6 سال | Y4: 29-19 سال | Z4: 59-30 سال | AA4: 60 سال به بالا | AB4: مادر باردار | AC4: جمع كل | AD4: 6-0 سال | AE4: 18-6 سال | AF4: 29-19 سال | AG4: 59-30 سال | AH4: 60 سال به بالا | AI4: مادر باردار | AJ4: جمع كل | AK4: 6-0 سال | AL4: 18-6 سال | AM4: 29-19 سال | AN4: 59-30 سال | AO4: 60 سال به بالا | AP4: مادر باردار | AQ4: جمع كل | AR4: 6-0 سال | AS4: 18-6 سال | AT4: 29-19 سال | AU4: 59-30 سال | AV4: 60 سال به بالا | AW4: مادر باردار | AX4: جمع كل | AY4: 6-0 سال | AZ4: 18-6 سال | BA4: 29-19 سال | BB4: 59-30 سال | BC4: 60 سال به بالا | BD4: مادر باردار | BE4: جمع كل | BF4: 6-0 سال | BG4: 18-6 سال | BH4: 29-19 سال | BI4: 59-30 سال | BJ4: 60 سال به بالا | BK4: مادر باردار | BL4: جمع كل | BM4: 6-0 سال | BN4: 18-6 سال | BO4: 29-19 سال | BP4: 59-30 سال | BQ4: 60 سال به بالا | BR4: مادر باردار | BS4: جمع كل | BT4: 6-0 سال | BU4: 18-6 سال | BV4: 29-19 سال | BW4: 59-30 سال | BX4: 60 سال به بالا | BY4: مادر باردار | BZ4: جمع كل
A5: قزوین | B5: ='سه ماهه سوم'!B5+'سه ماهه چهارم'!B5 -> 0 | C5: ='سه ماهه سوم'!C5+'سه ماهه چهارم'!C5 -> 0 | D5: ='سه ماهه سوم'!D5+'سه ماهه چهارم'!D5 -> 0 | E5: ='سه ماهه سوم'!E5+'سه ماهه چهارم'!E5 -> 0 | F5: ='سه ماهه سوم'!F5+'سه ماهه چهارم'!F5 -> 0 | G5: ='سه ماهه سوم'!G5+'سه ماهه چهارم'!G5 -> 0 | H5: ='سه ماهه سوم'!H5+'سه ماهه چهارم'!H5 -> 0 | I5: ='سه ماهه سوم'!I5+'سه ماهه چهارم'!I5 -> 0 | ... BZ5: ='سه ماهه سوم'!BZ5+'سه ماهه چهارم'!BZ5 -> 0
A6: آبیک | B6: ='سه ماهه سوم'!B6+'سه ماهه چهارم'!B6 -> 0 | C6: ='سه ماهه سوم'!C6+'سه ماهه چهارم'!C6 -> 0 | D6: ='سه ماهه سوم'!D6+'سه ماهه چهارم'!D6 -> 0 | E6: ='سه ماهه سوم'!E6+'سه ماهه چهارم'!E6 -> 0 | F6: ='سه ماهه سوم'!F6+'سه ماهه چهارم'!F6 -> 0 | G6: ='سه ماهه سوم'!G6+'سه ماهه چهارم'!G6 -> 0 | H6: ='سه ماهه سوم'!H6+'سه ماهه چهارم'!H6 -> 0 | I6: ='سه ماهه سوم'!I6+'سه ماهه چهارم'!I6 -> 0 | ... BZ6: ='سه ماهه سوم'!BZ6+'سه ماهه چهارم'!BZ6 -> 0
A7: بویین زهرا | B7: ='سه ماهه سوم'!B7+'سه ماهه چهارم'!B7 -> 0 | C7: ='سه ماهه سوم'!C7+'سه ماهه چهارم'!C7 -> 0 | D7: ='سه ماهه سوم'!D7+'سه ماهه چهارم'!D7 -> 0 | E7: ='سه ماهه سوم'!E7+'سه ماهه چهارم'!E7 -> 0 | F7: ='سه ماهه سوم'!F7+'سه ماهه چهارم'!F7 -> 0 | G7: ='سه ماهه سوم'!G7+'سه ماهه چهارم'!G7 -> 0 | H7: ='سه ماهه سوم'!H7+'سه ماهه چهارم'!H7 -> 0 | I7: ='سه ماهه سوم'!I7+'سه ماهه چهارم'!I7 -> 0 | ... BZ7: ='سه ماهه سوم'!BZ7+'سه ماهه چهارم'!BZ7 -> 0
A8: البرز | B8: ='سه ماهه سوم'!B8+'سه ماهه چهارم'!B8 -> 0 | C8: ='سه ماهه سوم'!C8+'سه ماهه چهارم'!C8 -> 0 | D8: ='سه ماهه سوم'!D8+'سه ماهه چهارم'!D8 -> 0 | E8: ='سه ماهه سوم'!E8+'سه ماهه چهارم'!E8 -> 0 | F8: ='سه ماهه سوم'!F8+'سه ماهه چهارم'!F8 -> 0 | G8: ='سه ماهه سوم'!G8+'سه ماهه چهارم'!G8 -> 0 | H8: ='سه ماهه سوم'!H8+'سه ماهه چهارم'!H8 -> 0 | I8: ='سه ماهه سوم'!I8+'سه ماهه چهارم'!I8 -> 0 | ... BZ8: ='سه ماهه سوم'!BZ8+'سه ماهه چهارم'!BZ8 -> 0
A9: آوج | B9: ='سه ماهه سوم'!B9+'سه ماهه چهارم'!B9 -> 0 | C9: ='سه ماهه سوم'!C9+'سه ماهه چهارم'!C9 -> 0 | D9: ='سه ماهه سوم'!D9+'سه ماهه چهارم'!D9 -> 0 | E9: ='سه ماهه سوم'!E9+'سه ماهه چهارم'!E9 -> 0 | F9: ='سه ماهه سوم'!F9+'سه ماهه چهارم'!F9 -> 0 | G9: ='سه ماهه سوم'!G9+'سه ماهه چهارم'!G9 -> 0 | H9: ='سه ماهه سوم'!H9+'سه ماهه چهارم'!H9 -> 0 | I9: ='سه ماهه سوم'!I9+'سه ماهه چهارم'!I9 -> 0 | ... BZ9: ='سه ماهه سوم'!BZ9+'سه ماهه چهارم'!BZ9 -> 0
A10: تاکستان | B10: ='سه ماهه سوم'!B10+'سه ماهه چهارم'!B10 -> 0 | C10: ='سه ماهه سوم'!C10+'سه ماهه چهارم'!C10 -> 0 | D10: ='سه ماهه سوم'!D10+'سه ماهه چهارم'!D10 -> 0 | E10: ='سه ماهه سوم'!E10+'سه ماهه چهارم'!E10 -> 0 | F10: ='سه ماهه سوم'!F10+'سه ماهه چهارم'!F10 -> 0 | G10: ='سه ماهه سوم'!G10+'سه ماهه چهارم'!G10 -> 0 | H10: ='سه ماهه سوم'!H10+'سه ماهه چهارم'!H10 -> 0 | I10: ='سه ماهه سوم'!I10+'سه ماهه چهارم'!I10 -> 0 | ... BZ10: ='سه ماهه سوم'!BZ10+'سه ماهه چهارم'!BZ10 -> 0
